BEGIN:VCALENDAR
VERSION:2.0
PRODID:-//Total Living Center - ECPv6.15.17.1//NONSGML v1.0//EN
CALSCALE:GREGORIAN
METHOD:PUBLISH
X-ORIGINAL-URL:https://totallivingcenter.org
X-WR-CALDESC:Events for Total Living Center
REFRESH-INTERVAL;VALUE=DURATION:PT1H
X-Robots-Tag:noindex
X-PUBLISHED-TTL:PT1H
BEGIN:VTIMEZONE
TZID:UTC
BEGIN:STANDARD
TZOFFSETFROM:+0000
TZOFFSETTO:+0000
TZNAME:UTC
DTSTART:20260101T000000
END:STANDARD
END:VTIMEZONE
BEGIN:VEVENT
DTSTART;TZID=UTC:20270202T123000
DTEND;TZID=UTC:20270202T133000
DTSTAMP:20260420T093152
CREATED:20220602T172825Z
LAST-MODIFIED:20251125T170340Z
UID:2447-1801571400-1801575000@totallivingcenter.org
SUMMARY:Chiropractor
DESCRIPTION:Total Living Center offers free chiropractic care to those in need\, helping restore health and mobility through compassionate\, professional treatment. Our licensed chiropractors provide gentle adjustments and guidance to support physical well-being\, relieve pain\, and improve quality of life — all in a caring\, faith-filled environment.
URL:https://totallivingcenter.org/event/chiropractor-2027-02-02/
LOCATION:Total Living Center
ORGANIZER;CN="Total Living Center":MAILTO:jackie@totallivingcenter.org
END:VEVENT
BEGIN:VEVENT
DTSTART;TZID=UTC:20280221T113000
DTEND;TZID=UTC:20280221T123000
DTSTAMP:20260420T093152
CREATED:20260219T175928Z
LAST-MODIFIED:20260219T175928Z
UID:3149-1834745400-1834749000@totallivingcenter.org
SUMMARY:Weekly Hot Meal Program
DESCRIPTION:At Total Living Center\, we believe no one in our community should have to face hunger alone. Each week\, we provide warm\, nutritious meals in a safe and welcoming environment where individuals and families can gather around the table with dignity. Our Weekly Hot Meal Program is more than just food—it’s an opportunity for connection\, encouragement\, and support. Whether you’re in need of a meal or simply looking for community\, our doors are open. Join us every week as we serve with compassion and create a place where everyone is welcome.
URL:https://totallivingcenter.org/event/weekly-hot-meal-program/2028-02-21/
LOCATION:Total Living Center
END:VEVENT
END:VCALENDAR