BEGIN:VCALENDAR
VERSION:2.0
PRODID:-//Total Living Center - ECPv6.15.17.1//NONSGML v1.0//EN
CALSCALE:GREGORIAN
METHOD:PUBLISH
X-WR-CALNAME:Total Living Center
X-ORIGINAL-URL:https://totallivingcenter.org
X-WR-CALDESC:Events for Total Living Center
REFRESH-INTERVAL;VALUE=DURATION:PT1H
X-Robots-Tag:noindex
X-PUBLISHED-TTL:PT1H
BEGIN:VTIMEZONE
TZID:UTC
BEGIN:STANDARD
TZOFFSETFROM:+0000
TZOFFSETTO:+0000
TZNAME:UTC
DTSTART:20210101T000000
END:STANDARD
END:VTIMEZONE
BEGIN:VEVENT
DTSTART;TZID=UTC:20260417T050000
DTEND;TZID=UTC:20260417T070000
DTSTAMP:20260420T092935
CREATED:20260219T145354Z
LAST-MODIFIED:20260219T145354Z
UID:2759-1776402000-1776409200@totallivingcenter.org
SUMMARY:Sunrise Prayer
DESCRIPTION:Sunrise Prayer is a weekly time set aside to seek God together before the day begins. Join us on the 1st and 3rd Friday of the month from 5:00–7:00 AM as we gather in prayer for our families\, our community\, and the needs around us. This peaceful early morning time creates space to reflect\, be encouraged\, and align our hearts with God through Scripture and intercession. All are welcome to come and start their Friday in faith and unity.
URL:https://totallivingcenter.org/event/sunrise-prayer/2026-04-17/
LOCATION:Total Living Center
ORGANIZER;CN="Total Living Center":MAILTO:jackie@totallivingcenter.org
END:VEVENT
BEGIN:VEVENT
DTSTART;TZID=UTC:20260416T180000
DTEND;TZID=UTC:20260416T193000
DTSTAMP:20260420T092935
CREATED:20260219T150024Z
LAST-MODIFIED:20260220T183657Z
UID:2806-1776362400-1776367800@totallivingcenter.org
SUMMARY:Celebrate Recovery
DESCRIPTION:Celebrate Recovery is a safe and supportive place for individuals seeking freedom from hurts\, habits\, and hang-ups of any kind. Through faith-based teaching\, honest conversation\, and community support\, participants are encouraged to find healing\, hope\, and lasting transformation in Christ. Whether you’re walking through recovery\, grief\, anxiety\, addiction\, or life’s challenges\, you are welcome here—just as you are. Celebrate Recovery is part of our Cell Groups at Total Living Center. In addition childcare is provided while you attend this program. Join us as we pursue wholeness together in a confidential and caring environment.
URL:https://totallivingcenter.org/event/celebrate-recovery/2026-04-16/
LOCATION:Total Living Center
END:VEVENT
BEGIN:VEVENT
DTSTART;TZID=UTC:20260416T100000
DTEND;TZID=UTC:20260416T140000
DTSTAMP:20260420T092935
CREATED:20260320T164826Z
LAST-MODIFIED:20260320T164826Z
UID:3490-1776333600-1776348000@totallivingcenter.org
SUMMARY:Free Laundromat
DESCRIPTION:The Total Living Center provides low income or no income families within Canton a place to come and wash clothing and linens. Nothing is better than wearing a freshly cleaned outfit. We see the laundromat as a place where strangers become friends\, people are known by name\, compassion is found\, and the worth of every human-being is acknowledged and celebrated. \nLaundromat hours are daily Monday-Thursday 10AM-2PM by appointment only. \nPlease Call 330-455-3663
URL:https://totallivingcenter.org/event/free-laundromat/2026-04-16/
LOCATION:Total Living Center
ORGANIZER;CN="Total Living Center":MAILTO:jackie@totallivingcenter.org
END:VEVENT
BEGIN:VEVENT
DTSTART;TZID=UTC:20260415T100000
DTEND;TZID=UTC:20260415T130000
DTSTAMP:20260420T092935
CREATED:20260320T164505Z
LAST-MODIFIED:20260320T164505Z
UID:3444-1776247200-1776258000@totallivingcenter.org
SUMMARY:Free Hair Cuts
DESCRIPTION:A haircut can boost an individual’s confidence. Whether it’s a child going back to school\, an elderly woman who needs a fresh cut\, or the gentleman who needs a trim for an interview\, we continue to provide a bridge of compassion through free hair cutting Services. \nHaircuts Provided weekly on Wednesday’s from 10AM-1PM.
URL:https://totallivingcenter.org/event/free-hair-cuts/2026-04-15/
LOCATION:Total Living Center
ORGANIZER;CN="Total Living Center":MAILTO:jackie@totallivingcenter.org
END:VEVENT
BEGIN:VEVENT
DTSTART;TZID=UTC:20260414T113000
DTEND;TZID=UTC:20260414T123000
DTSTAMP:20260420T092935
CREATED:20260219T175928Z
LAST-MODIFIED:20260219T175928Z
UID:3023-1776166200-1776169800@totallivingcenter.org
SUMMARY:Weekly Hot Meal Program
DESCRIPTION:At Total Living Center\, we believe no one in our community should have to face hunger alone. Each week\, we provide warm\, nutritious meals in a safe and welcoming environment where individuals and families can gather around the table with dignity. Our Weekly Hot Meal Program is more than just food—it’s an opportunity for connection\, encouragement\, and support. Whether you’re in need of a meal or simply looking for community\, our doors are open. Join us every week as we serve with compassion and create a place where everyone is welcome.
URL:https://totallivingcenter.org/event/weekly-hot-meal-program/2026-04-14/
LOCATION:Total Living Center
END:VEVENT
BEGIN:VEVENT
DTSTART;TZID=UTC:20260410T220000
DTEND;TZID=UTC:20260410T020000
DTSTAMP:20260420T092935
CREATED:20260218T234400Z
LAST-MODIFIED:20260309T170417Z
UID:2646-1775858400-1775786400@totallivingcenter.org
SUMMARY:Midnight Oil
DESCRIPTION:Midnight Oil Prayer Night is a powerful monthly gathering at Total Living Center where we come together in unity to intercede for our community\, our city\, and our region. As a house of prayer\, we set aside this time to seek God’s presence\, lift up the needs around us\, and stand in the gap through Scripture-led prayer. Rooted in the call of Isaiah 56:7 — “For My house shall be called a house of prayer for all nations” — this night is dedicated to covering our neighborhoods in faith\, hope\, and the transforming power of Jesus Christ.
URL:https://totallivingcenter.org/event/midnight-oil-2026-04-10/2026-04-10/
LOCATION:Total Living Center
ORGANIZER;CN="Total Living Center":MAILTO:jackie@totallivingcenter.org
END:VEVENT
BEGIN:VEVENT
DTSTART;TZID=UTC:20260409T180000
DTEND;TZID=UTC:20260409T193000
DTSTAMP:20260420T092935
CREATED:20260320T161552Z
LAST-MODIFIED:20260320T161552Z
UID:4013-1775757600-1775763000@totallivingcenter.org
SUMMARY:Healing Room
DESCRIPTION:Healing Room is where we pursue the Holy Spirit and His healing power in a special time of ministry. It’s a place we see God bring life\, wholeness\, and love to those suffering from physical ailments. We are joy-filled believers who see God bring complete restoration and healing. With over 160 documented healing testimonies\, we see people encounter healing through the Healing Rooms and it’s incredible! \nHealing Room Hours \n2nd Thursday 6pm-7:30pm \n4th Friday 7pm-8:30pm \n\nRegister for a 15-minute Healing Room Session
URL:https://totallivingcenter.org/event/healing-room/2026-04-09/
LOCATION:Total Living Center
ORGANIZER;CN="Total Living Center":MAILTO:jackie@totallivingcenter.org
END:VEVENT
BEGIN:VEVENT
DTSTART;TZID=UTC:20260409T180000
DTEND;TZID=UTC:20260409T193000
DTSTAMP:20260420T092935
CREATED:20260220T184445Z
LAST-MODIFIED:20260220T184445Z
UID:3094-1775757600-1775763000@totallivingcenter.org
SUMMARY:Worship Service
DESCRIPTION:Thursday Night Worship Service is a gathering where we come together to worship\, grow in God’s Word\, and pray for one another in a welcoming\, faith-filled environment. This service is designed to strengthen your walk with Christ through meaningful teaching and community connection. We also offer a Children’s Program for kids ages 3 months through 5th grade\, providing a safe and engaging space for them while parents and guardians participate in the service. Join us each Thursday night as we pursue God together.
URL:https://totallivingcenter.org/event/worship-service/2026-04-09/
LOCATION:Total Living Center
END:VEVENT
BEGIN:VEVENT
DTSTART;TZID=UTC:20260408T110000
DTEND;TZID=UTC:20260408T130000
DTSTAMP:20260420T092935
CREATED:20260218T233333Z
LAST-MODIFIED:20260218T234812Z
UID:2564-1775646000-1775653200@totallivingcenter.org
SUMMARY:Grocery Distribution
DESCRIPTION:Grocery Distribution\nTotal Living Center’s Grocery Distribution program exists to support individuals and families facing food insecurity by providing consistent access to nutritious groceries in a welcoming\, dignity-centered environment. Through this program\, community members receive essential food items that help stretch household budgets and ensure that no one has to choose between basic needs. \nOur distribution is more than just a handout—it’s an opportunity to build relationships\, offer encouragement\, and connect individuals to additional support services available at TLC. Whether someone is navigating a temporary hardship or working toward long-term stability\, our goal is to meet immediate needs while walking alongside them on their journey toward wholeness. \nGroceries are distributed on a regular basis to help supplement meals and bring practical relief to those we serve throughout the Canton community. A photo ID is required to receive groceries.
URL:https://totallivingcenter.org/event/grocery-distribution/2026-04-08/
LOCATION:Total Living Center
ORGANIZER;CN="Total Living Center":MAILTO:jackie@totallivingcenter.org
END:VEVENT
BEGIN:VEVENT
DTSTART;TZID=UTC:20260407T123000
DTEND;TZID=UTC:20260407T133000
DTSTAMP:20260420T092935
CREATED:20220602T172825Z
LAST-MODIFIED:20220602T172825Z
UID:2437-1775565000-1775568600@totallivingcenter.org
SUMMARY:Chiropractor
DESCRIPTION:Total Living Center offers free chiropractic care to those in need\, helping restore health and mobility through compassionate\, professional treatment. Our licensed chiropractors provide gentle adjustments and guidance to support physical well-being\, relieve pain\, and improve quality of life — all in a caring\, faith-filled environment.
URL:https://totallivingcenter.org/event/chiropractor/2026-04-07/
LOCATION:Total Living Center
ORGANIZER;CN="Total Living Center":MAILTO:jackie@totallivingcenter.org
END:VEVENT
BEGIN:VEVENT
DTSTART;TZID=UTC:20260402T180000
DTEND;TZID=UTC:20260402T193000
DTSTAMP:20260420T092935
CREATED:20260218T233733Z
LAST-MODIFIED:20260218T233733Z
UID:3059-1775152800-1775158200@totallivingcenter.org
SUMMARY:Cell Groups
DESCRIPTION:Cell Groups are small weekly gatherings where people come together to build meaningful relationships and grow in their journey with Christ. Through fellowship\, conversation\, prayer\, and God’s Word\, these groups create a welcoming space to share life\, be encouraged\, and pursue faith alongside others in authentic community. \nBegins at 6:00PM
URL:https://totallivingcenter.org/event/cell-groups/2026-04-02/
LOCATION:Total Living Center
END:VEVENT
BEGIN:VEVENT
DTSTART;TZID=UTC:20260328T130000
DTEND;TZID=UTC:20260328T140000
DTSTAMP:20260420T092935
CREATED:20260219T142919Z
LAST-MODIFIED:20260219T142919Z
UID:2747-1774702800-1774706400@totallivingcenter.org
SUMMARY:Easter Egg Hunt
DESCRIPTION:Easter Egg Hunt at Total Living Center is a fun-filled event for kids ages 12 and under to celebrate the joy of the season! Families are invited to enjoy an exciting egg hunt along with uplifting music and a special kids program designed just for them. Each child will also receive a hot meal to go. The event registration begins at 12:45 PM. Come out and make lasting memories with us this Easter!
URL:https://totallivingcenter.org/event/easter-egg-hunt/
LOCATION:Total Living Center
ORGANIZER;CN="Total Living Center":MAILTO:jackie@totallivingcenter.org
END:VEVENT
BEGIN:VEVENT
DTSTART;TZID=UTC:20260327T190000
DTEND;TZID=UTC:20260327T210000
DTSTAMP:20260420T092935
CREATED:20260220T184057Z
LAST-MODIFIED:20260220T184539Z
UID:3070-1774638000-1774645200@totallivingcenter.org
SUMMARY:Encounter Night
DESCRIPTION:Encounter Night at Total Living Center is a powerful evening set aside for worship\, prayer\, and experiencing the presence of God together as a community. Each month\, we gather to encounter Jesus through uplifting worship and a time of ministry that encourages spiritual growth and renewal. We also offer a Kids Ministry program for children ages 3 months through 5th grade\, providing a safe and engaging environment for them while parents participate in the service. Come expecting to be refreshed\, encouraged\, and strengthened in your faith.
URL:https://totallivingcenter.org/event/encounter-night/2026-03-27/
LOCATION:Total Living Center
ORGANIZER;CN="Total Living Center":MAILTO:jackie@totallivingcenter.org
END:VEVENT
BEGIN:VEVENT
DTSTART;TZID=UTC:20260228T130000
DTEND;TZID=UTC:20260228T140000
DTSTAMP:20260420T092935
CREATED:20260219T142223Z
LAST-MODIFIED:20260219T142223Z
UID:2744-1772283600-1772287200@totallivingcenter.org
SUMMARY:Love Tent
DESCRIPTION:Love Tent Outreach is a community-centered event where we come together to serve our neighbors with compassion and care. During this outreach\, guests will receive essential hygiene products and a warm meal in a welcoming environment. The program also includes uplifting music and a fun Kids Club for children to enjoy. Registration begins at 12:45 PM. Join us as we extend love\, dignity\, and practical support to individuals and families in our community.
URL:https://totallivingcenter.org/event/love-tent/
LOCATION:Total Living Center
ORGANIZER;CN="Total Living Center":MAILTO:jackie@totallivingcenter.org
END:VEVENT
BEGIN:VEVENT
DTSTART;TZID=UTC:20260220T100000
DTEND;TZID=UTC:20260220T170000
DTSTAMP:20260420T092935
CREATED:20260219T180744Z
LAST-MODIFIED:20260219T180744Z
UID:3054-1771581600-1771606800@totallivingcenter.org
SUMMARY:Total Living Center Agency Store
DESCRIPTION:The Total Living Center Agency Store provides discounted goods and supplies for the community including churches\, nonprofits\, and teachers. The store is dedicated to giving the community a resource where they can be a participant of receiving redistributed goods for a discounted fee. Goods can be discounted as low as ⅓ of the price. Agencies can save up to 75% on resources to impact their network. Follow us on social media for all the update!
URL:https://totallivingcenter.org/event/total-living-center-agency-store/2026-02-20/
LOCATION:Total Living Center
ORGANIZER;CN="Total Living Center":MAILTO:jackie@totallivingcenter.org
END:VEVENT
BEGIN:VEVENT
DTSTART;TZID=UTC:20260115T180000
DTEND;TZID=UTC:20260115T200000
DTSTAMP:20260420T092935
CREATED:20251107T165602Z
LAST-MODIFIED:20251107T165602Z
UID:2251-1768500000-1768507200@totallivingcenter.org
SUMMARY:Volunteer Appreciation Dinner
DESCRIPTION:Total Living Center’s Annual Volunteer Appreciation DinnerThursday\, January 15th at 6:00 PM \nYou are invited to an evening dedicated to celebrating you — the hands and hearts that make everything we do possible. Together\, we’ll reflect on the incredible impact you helped create throughout 2025 and the lives touched because of your service. Enjoy a beautifully prepared meal\, warm fellowship\, and a meaningful time of honoring one another as we celebrate the beauty of serving together in Jesus’ name.
URL:https://totallivingcenter.org/event/volunteer-appreciation-dinner/
LOCATION:Total Living Center
ORGANIZER;CN="Total Living Center":MAILTO:jackie@totallivingcenter.org
END:VEVENT
BEGIN:VEVENT
DTSTART;TZID=UTC:20251220T130000
DTEND;TZID=UTC:20251220T150000
DTSTAMP:20260420T092935
CREATED:20251030T155411Z
LAST-MODIFIED:20251030T155717Z
UID:2170-1766235600-1766242800@totallivingcenter.org
SUMMARY:Christmas Dinner & Giveaway
DESCRIPTION:Join us for the Total Living Center Christmas Experience\, a special celebration for the whole family filled with music\, food\, and festive fun! Enjoy a warm holiday meal\, participate in free toy and food giveaways\, and take part in a meaningful time of reflection on the true reason for the season. Registration begins at 12:45 PM\, so please arrive on time to secure your spot. Come share in the joy\, love\, and community spirit this Christmas at the Total Living Center! \nCome experience love\, laughter\, and community this Christmas at the Total Living Center!
URL:https://totallivingcenter.org/event/christmas-dinner-giveaway/
LOCATION:Total Living Center
ORGANIZER;CN="Total Living Center":MAILTO:jackie@totallivingcenter.org
END:VEVENT
BEGIN:VEVENT
DTSTART;TZID=UTC:20251219T110000
DTEND;TZID=UTC:20251220T150000
DTSTAMP:20260420T092935
CREATED:20251125T171534Z
LAST-MODIFIED:20251125T171534Z
UID:2466-1766142000-1766242800@totallivingcenter.org
SUMMARY:Volunteer Christmas Outreach
DESCRIPTION:Volunteer for Our Christmas OutreachThis Christmas\, you can help bring hope\, dignity\, and joy to individuals and families in our community. By volunteering with our Christmas Outreach\, you’ll help distribute gifts\, warm meals\, and essential resources to those who need it most. Your time and compassion make a real difference—join us in sharing the love and light of the season with every person who walks through our doors. Click below where it says website and it will take you to the sign up slots.
URL:https://totallivingcenter.org/event/volunteer-christmas-outreach/
LOCATION:Total Living Center
END:VEVENT
BEGIN:VEVENT
DTSTART;TZID=UTC:20251218T170000
DTEND;TZID=UTC:20251218T200000
DTSTAMP:20260420T092935
CREATED:20251030T163138Z
LAST-MODIFIED:20251030T163138Z
UID:2184-1766077200-1766088000@totallivingcenter.org
SUMMARY:TLC Christmas Service
DESCRIPTION:As the TLC family comes together to celebrate\, join us for a heartwarming evening filled with peace\, hope\, and joy. Enjoy the glow of candlelight\, uplifting carols\, and a message of love that captures the true spirit of the season.
URL:https://totallivingcenter.org/event/tlc-christmas-service/
LOCATION:Total Living Center
ORGANIZER;CN="Total Living Center":MAILTO:jackie@totallivingcenter.org
END:VEVENT
BEGIN:VEVENT
DTSTART;TZID=UTC:20251202T123000
DTEND;TZID=UTC:20251202T133000
DTSTAMP:20260420T092935
CREATED:20220602T172825Z
LAST-MODIFIED:20251125T170555Z
UID:2433-1764678600-1764682200@totallivingcenter.org
SUMMARY:No Chiropractor
DESCRIPTION:Total Living Center offers free chiropractic care to those in need\, helping restore health and mobility through compassionate\, professional treatment. Our licensed chiropractors provide gentle adjustments and guidance to support physical well-being\, relieve pain\, and improve quality of life — all in a caring\, faith-filled environment.
URL:https://totallivingcenter.org/event/chiropractor-2025-12-02/
LOCATION:Total Living Center
ORGANIZER;CN="Total Living Center":MAILTO:jackie@totallivingcenter.org
END:VEVENT
BEGIN:VEVENT
DTSTART;TZID=UTC:20251122T130000
DTEND;TZID=UTC:20251122T150000
DTSTAMP:20260420T092935
CREATED:20251030T154327Z
LAST-MODIFIED:20251030T154802Z
UID:2166-1763816400-1763823600@totallivingcenter.org
SUMMARY:Thanksgiving Dinner & Turkey Giveaway
DESCRIPTION:Spend time with us at our annual Thanksgiving Dinner! We will enjoy a Thanksgiving meal\, live music and conclude your time with taking home your very own turkey for Thanksgiving Day! Registration begins at 12:45PM.
URL:https://totallivingcenter.org/event/thanksgiving-dinner-turkey-giveaway/
LOCATION:Total Living Center
ORGANIZER;CN="Total Living Center":MAILTO:jackie@totallivingcenter.org
END:VEVENT
BEGIN:VEVENT
DTSTART;TZID=UTC:20251121T090000
DTEND;TZID=UTC:20251122T150000
DTSTAMP:20260420T092935
CREATED:20251030T161544Z
LAST-MODIFIED:20251030T161544Z
UID:2179-1763715600-1763823600@totallivingcenter.org
SUMMARY:Thanksgiving Volunteer Sign-Up
DESCRIPTION:Giving Back This SeasonJoin us in making Thanksgiving special for our community! Volunteer times are available on both Friday and Saturday. Sign up through our online link to pick the slot that works best for you—every hand helps make a difference.
URL:https://totallivingcenter.org/event/thanksgiving-volunteer-sign-up/
LOCATION:Total Living Center
ORGANIZER;CN="Total Living Center":MAILTO:jackie@totallivingcenter.org
END:VEVENT
BEGIN:VEVENT
DTSTART;TZID=UTC:20251120T170000
DTEND;TZID=UTC:20251120T200000
DTSTAMP:20260420T092935
CREATED:20251030T162619Z
LAST-MODIFIED:20251030T162619Z
UID:2181-1763658000-1763668800@totallivingcenter.org
SUMMARY:TLC Thanksgiving Service
DESCRIPTION:Join us this for our Thanksgiving service as we gather in community\, lifting our hearts in gratitude and celebrating the blessings we share. Let’s join together in a meal\, celebrating what we are thankful for including each other. We will conclude with communion.
URL:https://totallivingcenter.org/event/tlc-thanksgiving-service/
LOCATION:Total Living Center
ORGANIZER;CN="Total Living Center":MAILTO:jackie@totallivingcenter.org
END:VEVENT
BEGIN:VEVENT
DTSTART;VALUE=DATE:20251101
DTEND;VALUE=DATE:20251206
DTSTAMP:20260420T092935
CREATED:20251030T161148Z
LAST-MODIFIED:20251030T161148Z
UID:2176-1761955200-1764979199@totallivingcenter.org
SUMMARY:Hearts of Hope Christmas
DESCRIPTION:Christmas Assistance Program\nTotal Living Center is proud to offer support to families in our community during the holiday season. Through our Christmas Assistance Program\, approved families receive a $300 voucher to shop at the TLC Agency Store\, which is stocked with gifts\, Christmas items\, and more for the whole family.Families interested in this program must complete an application\, provide verification of household income\, and participate in a short interview. This process ensures that assistance is provided to those who need it most. \nApply today to help make this Christmas brighter for your family!
URL:https://totallivingcenter.org/event/hearts-of-hope-christmas/
LOCATION:Total Living Center
ORGANIZER;CN="Total Living Center":MAILTO:jackie@totallivingcenter.org
END:VEVENT
BEGIN:VEVENT
DTSTART;TZID=UTC:20250927T130000
DTEND;TZID=UTC:20250927T160000
DTSTAMP:20260420T092935
CREATED:20250623T174010Z
LAST-MODIFIED:20250623T174010Z
UID:2064-1758978000-1758988800@totallivingcenter.org
SUMMARY:SUBMERGE Music Festival
DESCRIPTION:🎶 Submerge Music Festival at Total Living CenterJoin us for a powerful day of community\, unity\, and hope as we stand together against violence. The Submerge Music Festival is a family-friendly event featuring live music\, bounce houses\, free food\, and access to local resource booths. \nCome connect with others\, enjoy uplifting entertainment\, and learn about the support available right here in our community. Let’s come together\, celebrate life\, and be part of the solution—together.
URL:https://totallivingcenter.org/event/submerge-music-festival/
LOCATION:Total Living Center
ORGANIZER;CN="Total Living Center":MAILTO:jackie@totallivingcenter.org
END:VEVENT
BEGIN:VEVENT
DTSTART;TZID=UTC:20250815T100000
DTEND;TZID=UTC:20250816T210000
DTSTAMP:20260420T092935
CREATED:20250605T132330Z
LAST-MODIFIED:20250605T132859Z
UID:2045-1755252000-1755378000@totallivingcenter.org
SUMMARY:Let the Fire Fall Conference
DESCRIPTION:Conference Snapshot: Encountering the Holy Spirit with Joanne Moody & AFF \nJoin us for a transformative experience as we welcome Joann Moody\, a renowned minister and leader in healing and evangelism. This conference is designed to ignite hearts\, deepen faith\, and empower individuals through the supernatural presence of the Holy Spirit. \nJoann Moody\, miraculously healed after years of chronic pain\, now travels globally\, equipping ministers and laypeople to walk in the power of the Holy Spirit. Through dynamic teachings\, worship\, and ministry\, attendees will be encouraged to embrace their true identity in Christ and step into a life of freedom\, healing\, and supernatural impact. \nCome expecting breakthroughs\, prophetic insights\, and a fresh outpouring of the Holy Spirit. Whether you’re seeking personal renewal or a deeper understanding of God’s power\, this conference will be a life-changing encounter.
URL:https://totallivingcenter.org/event/let-the-fire-fall-conference/
LOCATION:Total Living Center
ORGANIZER;CN="Total Living Center":MAILTO:jackie@totallivingcenter.org
END:VEVENT
BEGIN:VEVENT
DTSTART;TZID=UTC:20220725T123000
DTEND;TZID=UTC:20220725T140000
DTSTAMP:20260420T092935
CREATED:20220609T004756Z
LAST-MODIFIED:20220609T011452Z
UID:1152-1658752200-1658757600@totallivingcenter.org
SUMMARY:Summer Kids Club
DESCRIPTION:
URL:https://totallivingcenter.org/event/kids-club/2022-07-25/
LOCATION:Total Living Center
CATEGORIES:412 Kids
END:VEVENT
BEGIN:VEVENT
DTSTART;TZID=UTC:20220713T220000
DTEND;TZID=UTC:20220713T230000
DTSTAMP:20260420T092935
CREATED:20220609T003534Z
LAST-MODIFIED:20220609T003943Z
UID:1058-1657749600-1657753200@totallivingcenter.org
SUMMARY:Vacation Bible School
DESCRIPTION:
URL:https://totallivingcenter.org/event/vacation-bible-school-3/2022-07-13/
LOCATION:Total Living Center
ATTACH;FMTTYPE=image/jpeg:https://totallivingcenter.org/wp-content/uploads/2022/06/tlc-vbs.jpeg
END:VEVENT
BEGIN:VEVENT
DTSTART;TZID=UTC:20220614T113000
DTEND;TZID=UTC:20220614T123000
DTSTAMP:20260420T092935
CREATED:20220609T004222Z
LAST-MODIFIED:20220609T004222Z
UID:1086-1655206200-1655209800@totallivingcenter.org
SUMMARY:Hot Lunch
DESCRIPTION:
URL:https://totallivingcenter.org/event/hot-lunch/2022-06-14/
LOCATION:Total Living Center
CATEGORIES:TLC Services
END:VEVENT
END:VCALENDAR