BEGIN:VCALENDAR
VERSION:2.0
PRODID:-//Total Living Center - ECPv6.15.17.1//NONSGML v1.0//EN
CALSCALE:GREGORIAN
METHOD:PUBLISH
X-WR-CALNAME:Total Living Center
X-ORIGINAL-URL:https://totallivingcenter.org
X-WR-CALDESC:Events for Total Living Center
REFRESH-INTERVAL;VALUE=DURATION:PT1H
X-Robots-Tag:noindex
X-PUBLISHED-TTL:PT1H
BEGIN:VTIMEZONE
TZID:UTC
BEGIN:STANDARD
TZOFFSETFROM:+0000
TZOFFSETTO:+0000
TZNAME:UTC
DTSTART:20250101T000000
END:STANDARD
END:VTIMEZONE
BEGIN:VEVENT
DTSTART;TZID=UTC:20260514T180000
DTEND;TZID=UTC:20260514T193000
DTSTAMP:20260423T110336
CREATED:20260220T184445Z
LAST-MODIFIED:20260220T184445Z
UID:3096-1778781600-1778787000@totallivingcenter.org
SUMMARY:Worship Service
DESCRIPTION:Thursday Night Worship Service is a gathering where we come together to worship\, grow in God’s Word\, and pray for one another in a welcoming\, faith-filled environment. This service is designed to strengthen your walk with Christ through meaningful teaching and community connection. We also offer a Children’s Program for kids ages 3 months through 5th grade\, providing a safe and engaging space for them while parents and guardians participate in the service. Join us each Thursday night as we pursue God together.
URL:https://totallivingcenter.org/event/worship-service/2026-05-14/
LOCATION:Total Living Center
END:VEVENT
BEGIN:VEVENT
DTSTART;TZID=UTC:20260611T180000
DTEND;TZID=UTC:20260611T193000
DTSTAMP:20260423T110336
CREATED:20260220T184445Z
LAST-MODIFIED:20260220T184445Z
UID:3097-1781200800-1781206200@totallivingcenter.org
SUMMARY:Worship Service
DESCRIPTION:Thursday Night Worship Service is a gathering where we come together to worship\, grow in God’s Word\, and pray for one another in a welcoming\, faith-filled environment. This service is designed to strengthen your walk with Christ through meaningful teaching and community connection. We also offer a Children’s Program for kids ages 3 months through 5th grade\, providing a safe and engaging space for them while parents and guardians participate in the service. Join us each Thursday night as we pursue God together.
URL:https://totallivingcenter.org/event/worship-service/2026-06-11/
LOCATION:Total Living Center
END:VEVENT
BEGIN:VEVENT
DTSTART;TZID=UTC:20260709T180000
DTEND;TZID=UTC:20260709T193000
DTSTAMP:20260423T110336
CREATED:20260220T184445Z
LAST-MODIFIED:20260220T184445Z
UID:3098-1783620000-1783625400@totallivingcenter.org
SUMMARY:Worship Service
DESCRIPTION:Thursday Night Worship Service is a gathering where we come together to worship\, grow in God’s Word\, and pray for one another in a welcoming\, faith-filled environment. This service is designed to strengthen your walk with Christ through meaningful teaching and community connection. We also offer a Children’s Program for kids ages 3 months through 5th grade\, providing a safe and engaging space for them while parents and guardians participate in the service. Join us each Thursday night as we pursue God together.
URL:https://totallivingcenter.org/event/worship-service/2026-07-09/
LOCATION:Total Living Center
END:VEVENT
BEGIN:VEVENT
DTSTART;TZID=UTC:20260813T180000
DTEND;TZID=UTC:20260813T193000
DTSTAMP:20260423T110336
CREATED:20260220T184445Z
LAST-MODIFIED:20260220T184445Z
UID:3099-1786644000-1786649400@totallivingcenter.org
SUMMARY:Worship Service
DESCRIPTION:Thursday Night Worship Service is a gathering where we come together to worship\, grow in God’s Word\, and pray for one another in a welcoming\, faith-filled environment. This service is designed to strengthen your walk with Christ through meaningful teaching and community connection. We also offer a Children’s Program for kids ages 3 months through 5th grade\, providing a safe and engaging space for them while parents and guardians participate in the service. Join us each Thursday night as we pursue God together.
URL:https://totallivingcenter.org/event/worship-service/2026-08-13/
LOCATION:Total Living Center
END:VEVENT
BEGIN:VEVENT
DTSTART;TZID=UTC:20260910T180000
DTEND;TZID=UTC:20260910T193000
DTSTAMP:20260423T110336
CREATED:20260220T184445Z
LAST-MODIFIED:20260220T184445Z
UID:3100-1789063200-1789068600@totallivingcenter.org
SUMMARY:Worship Service
DESCRIPTION:Thursday Night Worship Service is a gathering where we come together to worship\, grow in God’s Word\, and pray for one another in a welcoming\, faith-filled environment. This service is designed to strengthen your walk with Christ through meaningful teaching and community connection. We also offer a Children’s Program for kids ages 3 months through 5th grade\, providing a safe and engaging space for them while parents and guardians participate in the service. Join us each Thursday night as we pursue God together.
URL:https://totallivingcenter.org/event/worship-service/2026-09-10/
LOCATION:Total Living Center
END:VEVENT
BEGIN:VEVENT
DTSTART;TZID=UTC:20261008T180000
DTEND;TZID=UTC:20261008T193000
DTSTAMP:20260423T110336
CREATED:20260220T184445Z
LAST-MODIFIED:20260220T184445Z
UID:3101-1791482400-1791487800@totallivingcenter.org
SUMMARY:Worship Service
DESCRIPTION:Thursday Night Worship Service is a gathering where we come together to worship\, grow in God’s Word\, and pray for one another in a welcoming\, faith-filled environment. This service is designed to strengthen your walk with Christ through meaningful teaching and community connection. We also offer a Children’s Program for kids ages 3 months through 5th grade\, providing a safe and engaging space for them while parents and guardians participate in the service. Join us each Thursday night as we pursue God together.
URL:https://totallivingcenter.org/event/worship-service/2026-10-08/
LOCATION:Total Living Center
END:VEVENT
BEGIN:VEVENT
DTSTART;TZID=UTC:20261112T180000
DTEND;TZID=UTC:20261112T193000
DTSTAMP:20260423T110336
CREATED:20260220T184445Z
LAST-MODIFIED:20260220T184445Z
UID:3102-1794506400-1794511800@totallivingcenter.org
SUMMARY:Worship Service
DESCRIPTION:Thursday Night Worship Service is a gathering where we come together to worship\, grow in God’s Word\, and pray for one another in a welcoming\, faith-filled environment. This service is designed to strengthen your walk with Christ through meaningful teaching and community connection. We also offer a Children’s Program for kids ages 3 months through 5th grade\, providing a safe and engaging space for them while parents and guardians participate in the service. Join us each Thursday night as we pursue God together.
URL:https://totallivingcenter.org/event/worship-service/2026-11-12/
LOCATION:Total Living Center
END:VEVENT
BEGIN:VEVENT
DTSTART;TZID=UTC:20261210T180000
DTEND;TZID=UTC:20261210T193000
DTSTAMP:20260423T110336
CREATED:20260220T184445Z
LAST-MODIFIED:20260220T184445Z
UID:3103-1796925600-1796931000@totallivingcenter.org
SUMMARY:Worship Service
DESCRIPTION:Thursday Night Worship Service is a gathering where we come together to worship\, grow in God’s Word\, and pray for one another in a welcoming\, faith-filled environment. This service is designed to strengthen your walk with Christ through meaningful teaching and community connection. We also offer a Children’s Program for kids ages 3 months through 5th grade\, providing a safe and engaging space for them while parents and guardians participate in the service. Join us each Thursday night as we pursue God together.
URL:https://totallivingcenter.org/event/worship-service/2026-12-10/
LOCATION:Total Living Center
END:VEVENT
BEGIN:VEVENT
DTSTART;TZID=UTC:20270114T180000
DTEND;TZID=UTC:20270114T193000
DTSTAMP:20260423T110336
CREATED:20260220T184445Z
LAST-MODIFIED:20260220T184445Z
UID:3104-1799949600-1799955000@totallivingcenter.org
SUMMARY:Worship Service
DESCRIPTION:Thursday Night Worship Service is a gathering where we come together to worship\, grow in God’s Word\, and pray for one another in a welcoming\, faith-filled environment. This service is designed to strengthen your walk with Christ through meaningful teaching and community connection. We also offer a Children’s Program for kids ages 3 months through 5th grade\, providing a safe and engaging space for them while parents and guardians participate in the service. Join us each Thursday night as we pursue God together.
URL:https://totallivingcenter.org/event/worship-service/2027-01-14/
LOCATION:Total Living Center
END:VEVENT
BEGIN:VEVENT
DTSTART;TZID=UTC:20270211T180000
DTEND;TZID=UTC:20270211T193000
DTSTAMP:20260423T110336
CREATED:20260220T184445Z
LAST-MODIFIED:20260220T184445Z
UID:3105-1802368800-1802374200@totallivingcenter.org
SUMMARY:Worship Service
DESCRIPTION:Thursday Night Worship Service is a gathering where we come together to worship\, grow in God’s Word\, and pray for one another in a welcoming\, faith-filled environment. This service is designed to strengthen your walk with Christ through meaningful teaching and community connection. We also offer a Children’s Program for kids ages 3 months through 5th grade\, providing a safe and engaging space for them while parents and guardians participate in the service. Join us each Thursday night as we pursue God together.
URL:https://totallivingcenter.org/event/worship-service/2027-02-11/
LOCATION:Total Living Center
END:VEVENT
BEGIN:VEVENT
DTSTART;TZID=UTC:20270311T180000
DTEND;TZID=UTC:20270311T193000
DTSTAMP:20260423T110336
CREATED:20260220T184445Z
LAST-MODIFIED:20260220T184445Z
UID:3107-1804788000-1804793400@totallivingcenter.org
SUMMARY:Worship Service
DESCRIPTION:Thursday Night Worship Service is a gathering where we come together to worship\, grow in God’s Word\, and pray for one another in a welcoming\, faith-filled environment. This service is designed to strengthen your walk with Christ through meaningful teaching and community connection. We also offer a Children’s Program for kids ages 3 months through 5th grade\, providing a safe and engaging space for them while parents and guardians participate in the service. Join us each Thursday night as we pursue God together.
URL:https://totallivingcenter.org/event/worship-service/2027-03-11/
LOCATION:Total Living Center
END:VEVENT
BEGIN:VEVENT
DTSTART;TZID=UTC:20270408T180000
DTEND;TZID=UTC:20270408T193000
DTSTAMP:20260423T110336
CREATED:20260220T184445Z
LAST-MODIFIED:20260220T184445Z
UID:3108-1807207200-1807212600@totallivingcenter.org
SUMMARY:Worship Service
DESCRIPTION:Thursday Night Worship Service is a gathering where we come together to worship\, grow in God’s Word\, and pray for one another in a welcoming\, faith-filled environment. This service is designed to strengthen your walk with Christ through meaningful teaching and community connection. We also offer a Children’s Program for kids ages 3 months through 5th grade\, providing a safe and engaging space for them while parents and guardians participate in the service. Join us each Thursday night as we pursue God together.
URL:https://totallivingcenter.org/event/worship-service/2027-04-08/
LOCATION:Total Living Center
END:VEVENT
BEGIN:VEVENT
DTSTART;TZID=UTC:20270513T180000
DTEND;TZID=UTC:20270513T193000
DTSTAMP:20260423T110336
CREATED:20260220T184445Z
LAST-MODIFIED:20260220T184445Z
UID:3109-1810231200-1810236600@totallivingcenter.org
SUMMARY:Worship Service
DESCRIPTION:Thursday Night Worship Service is a gathering where we come together to worship\, grow in God’s Word\, and pray for one another in a welcoming\, faith-filled environment. This service is designed to strengthen your walk with Christ through meaningful teaching and community connection. We also offer a Children’s Program for kids ages 3 months through 5th grade\, providing a safe and engaging space for them while parents and guardians participate in the service. Join us each Thursday night as we pursue God together.
URL:https://totallivingcenter.org/event/worship-service/2027-05-13/
LOCATION:Total Living Center
END:VEVENT
BEGIN:VEVENT
DTSTART;TZID=UTC:20270610T180000
DTEND;TZID=UTC:20270610T193000
DTSTAMP:20260423T110336
CREATED:20260220T184445Z
LAST-MODIFIED:20260220T184445Z
UID:3110-1812650400-1812655800@totallivingcenter.org
SUMMARY:Worship Service
DESCRIPTION:Thursday Night Worship Service is a gathering where we come together to worship\, grow in God’s Word\, and pray for one another in a welcoming\, faith-filled environment. This service is designed to strengthen your walk with Christ through meaningful teaching and community connection. We also offer a Children’s Program for kids ages 3 months through 5th grade\, providing a safe and engaging space for them while parents and guardians participate in the service. Join us each Thursday night as we pursue God together.
URL:https://totallivingcenter.org/event/worship-service/2027-06-10/
LOCATION:Total Living Center
END:VEVENT
BEGIN:VEVENT
DTSTART;TZID=UTC:20270708T180000
DTEND;TZID=UTC:20270708T193000
DTSTAMP:20260423T110336
CREATED:20260220T184445Z
LAST-MODIFIED:20260220T184445Z
UID:3111-1815069600-1815075000@totallivingcenter.org
SUMMARY:Worship Service
DESCRIPTION:Thursday Night Worship Service is a gathering where we come together to worship\, grow in God’s Word\, and pray for one another in a welcoming\, faith-filled environment. This service is designed to strengthen your walk with Christ through meaningful teaching and community connection. We also offer a Children’s Program for kids ages 3 months through 5th grade\, providing a safe and engaging space for them while parents and guardians participate in the service. Join us each Thursday night as we pursue God together.
URL:https://totallivingcenter.org/event/worship-service/2027-07-08/
LOCATION:Total Living Center
END:VEVENT
BEGIN:VEVENT
DTSTART;TZID=UTC:20270812T180000
DTEND;TZID=UTC:20270812T193000
DTSTAMP:20260423T110336
CREATED:20260220T184445Z
LAST-MODIFIED:20260220T184445Z
UID:3112-1818093600-1818099000@totallivingcenter.org
SUMMARY:Worship Service
DESCRIPTION:Thursday Night Worship Service is a gathering where we come together to worship\, grow in God’s Word\, and pray for one another in a welcoming\, faith-filled environment. This service is designed to strengthen your walk with Christ through meaningful teaching and community connection. We also offer a Children’s Program for kids ages 3 months through 5th grade\, providing a safe and engaging space for them while parents and guardians participate in the service. Join us each Thursday night as we pursue God together.
URL:https://totallivingcenter.org/event/worship-service/2027-08-12/
LOCATION:Total Living Center
END:VEVENT
BEGIN:VEVENT
DTSTART;TZID=UTC:20270909T180000
DTEND;TZID=UTC:20270909T193000
DTSTAMP:20260423T110336
CREATED:20260220T184445Z
LAST-MODIFIED:20260220T184445Z
UID:3113-1820512800-1820518200@totallivingcenter.org
SUMMARY:Worship Service
DESCRIPTION:Thursday Night Worship Service is a gathering where we come together to worship\, grow in God’s Word\, and pray for one another in a welcoming\, faith-filled environment. This service is designed to strengthen your walk with Christ through meaningful teaching and community connection. We also offer a Children’s Program for kids ages 3 months through 5th grade\, providing a safe and engaging space for them while parents and guardians participate in the service. Join us each Thursday night as we pursue God together.
URL:https://totallivingcenter.org/event/worship-service/2027-09-09/
LOCATION:Total Living Center
END:VEVENT
BEGIN:VEVENT
DTSTART;TZID=UTC:20271014T180000
DTEND;TZID=UTC:20271014T193000
DTSTAMP:20260423T110336
CREATED:20260220T184445Z
LAST-MODIFIED:20260220T184445Z
UID:3114-1823536800-1823542200@totallivingcenter.org
SUMMARY:Worship Service
DESCRIPTION:Thursday Night Worship Service is a gathering where we come together to worship\, grow in God’s Word\, and pray for one another in a welcoming\, faith-filled environment. This service is designed to strengthen your walk with Christ through meaningful teaching and community connection. We also offer a Children’s Program for kids ages 3 months through 5th grade\, providing a safe and engaging space for them while parents and guardians participate in the service. Join us each Thursday night as we pursue God together.
URL:https://totallivingcenter.org/event/worship-service/2027-10-14/
LOCATION:Total Living Center
END:VEVENT
BEGIN:VEVENT
DTSTART;TZID=UTC:20271111T180000
DTEND;TZID=UTC:20271111T193000
DTSTAMP:20260423T110336
CREATED:20260220T184445Z
LAST-MODIFIED:20260220T184445Z
UID:3115-1825956000-1825961400@totallivingcenter.org
SUMMARY:Worship Service
DESCRIPTION:Thursday Night Worship Service is a gathering where we come together to worship\, grow in God’s Word\, and pray for one another in a welcoming\, faith-filled environment. This service is designed to strengthen your walk with Christ through meaningful teaching and community connection. We also offer a Children’s Program for kids ages 3 months through 5th grade\, providing a safe and engaging space for them while parents and guardians participate in the service. Join us each Thursday night as we pursue God together.
URL:https://totallivingcenter.org/event/worship-service/2027-11-11/
LOCATION:Total Living Center
END:VEVENT
BEGIN:VEVENT
DTSTART;TZID=UTC:20271209T180000
DTEND;TZID=UTC:20271209T193000
DTSTAMP:20260423T110336
CREATED:20260220T184445Z
LAST-MODIFIED:20260220T184445Z
UID:3116-1828375200-1828380600@totallivingcenter.org
SUMMARY:Worship Service
DESCRIPTION:Thursday Night Worship Service is a gathering where we come together to worship\, grow in God’s Word\, and pray for one another in a welcoming\, faith-filled environment. This service is designed to strengthen your walk with Christ through meaningful teaching and community connection. We also offer a Children’s Program for kids ages 3 months through 5th grade\, providing a safe and engaging space for them while parents and guardians participate in the service. Join us each Thursday night as we pursue God together.
URL:https://totallivingcenter.org/event/worship-service/2027-12-09/
LOCATION:Total Living Center
END:VEVENT
BEGIN:VEVENT
DTSTART;TZID=UTC:20280113T180000
DTEND;TZID=UTC:20280113T193000
DTSTAMP:20260423T110336
CREATED:20260220T184445Z
LAST-MODIFIED:20260220T184445Z
UID:3140-1831399200-1831404600@totallivingcenter.org
SUMMARY:Worship Service
DESCRIPTION:Thursday Night Worship Service is a gathering where we come together to worship\, grow in God’s Word\, and pray for one another in a welcoming\, faith-filled environment. This service is designed to strengthen your walk with Christ through meaningful teaching and community connection. We also offer a Children’s Program for kids ages 3 months through 5th grade\, providing a safe and engaging space for them while parents and guardians participate in the service. Join us each Thursday night as we pursue God together.
URL:https://totallivingcenter.org/event/worship-service/2028-01-13/
LOCATION:Total Living Center
END:VEVENT
BEGIN:VEVENT
DTSTART;TZID=UTC:20280210T180000
DTEND;TZID=UTC:20280210T193000
DTSTAMP:20260423T110336
CREATED:20260220T184445Z
LAST-MODIFIED:20260220T184445Z
UID:3141-1833818400-1833823800@totallivingcenter.org
SUMMARY:Worship Service
DESCRIPTION:Thursday Night Worship Service is a gathering where we come together to worship\, grow in God’s Word\, and pray for one another in a welcoming\, faith-filled environment. This service is designed to strengthen your walk with Christ through meaningful teaching and community connection. We also offer a Children’s Program for kids ages 3 months through 5th grade\, providing a safe and engaging space for them while parents and guardians participate in the service. Join us each Thursday night as we pursue God together.
URL:https://totallivingcenter.org/event/worship-service/2028-02-10/
LOCATION:Total Living Center
END:VEVENT
BEGIN:VEVENT
DTSTART;TZID=UTC:20280309T180000
DTEND;TZID=UTC:20280309T193000
DTSTAMP:20260423T110336
CREATED:20260220T184445Z
LAST-MODIFIED:20260220T184445Z
UID:3215-1836237600-1836243000@totallivingcenter.org
SUMMARY:Worship Service
DESCRIPTION:Thursday Night Worship Service is a gathering where we come together to worship\, grow in God’s Word\, and pray for one another in a welcoming\, faith-filled environment. This service is designed to strengthen your walk with Christ through meaningful teaching and community connection. We also offer a Children’s Program for kids ages 3 months through 5th grade\, providing a safe and engaging space for them while parents and guardians participate in the service. Join us each Thursday night as we pursue God together.
URL:https://totallivingcenter.org/event/worship-service/2028-03-09/
LOCATION:Total Living Center
END:VEVENT
BEGIN:VEVENT
DTSTART;TZID=UTC:20280413T180000
DTEND;TZID=UTC:20280413T193000
DTSTAMP:20260423T110336
CREATED:20260220T184445Z
LAST-MODIFIED:20260220T184445Z
UID:4048-1839261600-1839267000@totallivingcenter.org
SUMMARY:Worship Service
DESCRIPTION:Thursday Night Worship Service is a gathering where we come together to worship\, grow in God’s Word\, and pray for one another in a welcoming\, faith-filled environment. This service is designed to strengthen your walk with Christ through meaningful teaching and community connection. We also offer a Children’s Program for kids ages 3 months through 5th grade\, providing a safe and engaging space for them while parents and guardians participate in the service. Join us each Thursday night as we pursue God together.
URL:https://totallivingcenter.org/event/worship-service/2028-04-13/
LOCATION:Total Living Center
END:VEVENT
END:VCALENDAR