BEGIN:VCALENDAR
VERSION:2.0
PRODID:-//Total Living Center - ECPv6.15.17.1//NONSGML v1.0//EN
CALSCALE:GREGORIAN
METHOD:PUBLISH
X-WR-CALNAME:Total Living Center
X-ORIGINAL-URL:https://totallivingcenter.org
X-WR-CALDESC:Events for Total Living Center
REFRESH-INTERVAL;VALUE=DURATION:PT1H
X-Robots-Tag:noindex
X-PUBLISHED-TTL:PT1H
BEGIN:VTIMEZONE
TZID:UTC
BEGIN:STANDARD
TZOFFSETFROM:+0000
TZOFFSETTO:+0000
TZNAME:UTC
DTSTART:20270101T000000
END:STANDARD
END:VTIMEZONE
BEGIN:VEVENT
DTSTART;TZID=UTC:20280221T113000
DTEND;TZID=UTC:20280221T123000
DTSTAMP:20260423T051017
CREATED:20260219T175928Z
LAST-MODIFIED:20260219T175928Z
UID:3149-1834745400-1834749000@totallivingcenter.org
SUMMARY:Weekly Hot Meal Program
DESCRIPTION:At Total Living Center\, we believe no one in our community should have to face hunger alone. Each week\, we provide warm\, nutritious meals in a safe and welcoming environment where individuals and families can gather around the table with dignity. Our Weekly Hot Meal Program is more than just food—it’s an opportunity for connection\, encouragement\, and support. Whether you’re in need of a meal or simply looking for community\, our doors are open. Join us every week as we serve with compassion and create a place where everyone is welcome.
URL:https://totallivingcenter.org/event/weekly-hot-meal-program/2028-02-21/
LOCATION:Total Living Center
END:VEVENT
BEGIN:VEVENT
DTSTART;TZID=UTC:20280222T113000
DTEND;TZID=UTC:20280222T123000
DTSTAMP:20260423T051017
CREATED:20260219T175928Z
LAST-MODIFIED:20260219T175928Z
UID:3150-1834831800-1834835400@totallivingcenter.org
SUMMARY:Weekly Hot Meal Program
DESCRIPTION:At Total Living Center\, we believe no one in our community should have to face hunger alone. Each week\, we provide warm\, nutritious meals in a safe and welcoming environment where individuals and families can gather around the table with dignity. Our Weekly Hot Meal Program is more than just food—it’s an opportunity for connection\, encouragement\, and support. Whether you’re in need of a meal or simply looking for community\, our doors are open. Join us every week as we serve with compassion and create a place where everyone is welcome.
URL:https://totallivingcenter.org/event/weekly-hot-meal-program/2028-02-22/
LOCATION:Total Living Center
END:VEVENT
BEGIN:VEVENT
DTSTART;TZID=UTC:20280223T113000
DTEND;TZID=UTC:20280223T123000
DTSTAMP:20260423T051017
CREATED:20260219T175928Z
LAST-MODIFIED:20260219T175928Z
UID:3158-1834918200-1834921800@totallivingcenter.org
SUMMARY:Weekly Hot Meal Program
DESCRIPTION:At Total Living Center\, we believe no one in our community should have to face hunger alone. Each week\, we provide warm\, nutritious meals in a safe and welcoming environment where individuals and families can gather around the table with dignity. Our Weekly Hot Meal Program is more than just food—it’s an opportunity for connection\, encouragement\, and support. Whether you’re in need of a meal or simply looking for community\, our doors are open. Join us every week as we serve with compassion and create a place where everyone is welcome.
URL:https://totallivingcenter.org/event/weekly-hot-meal-program/2028-02-23/
LOCATION:Total Living Center
END:VEVENT
BEGIN:VEVENT
DTSTART;TZID=UTC:20280224T113000
DTEND;TZID=UTC:20280224T123000
DTSTAMP:20260423T051017
CREATED:20260219T175928Z
LAST-MODIFIED:20260219T175928Z
UID:3159-1835004600-1835008200@totallivingcenter.org
SUMMARY:Weekly Hot Meal Program
DESCRIPTION:At Total Living Center\, we believe no one in our community should have to face hunger alone. Each week\, we provide warm\, nutritious meals in a safe and welcoming environment where individuals and families can gather around the table with dignity. Our Weekly Hot Meal Program is more than just food—it’s an opportunity for connection\, encouragement\, and support. Whether you’re in need of a meal or simply looking for community\, our doors are open. Join us every week as we serve with compassion and create a place where everyone is welcome.
URL:https://totallivingcenter.org/event/weekly-hot-meal-program/2028-02-24/
LOCATION:Total Living Center
END:VEVENT
BEGIN:VEVENT
DTSTART;TZID=UTC:20280228T113000
DTEND;TZID=UTC:20280228T123000
DTSTAMP:20260423T051017
CREATED:20260219T175928Z
LAST-MODIFIED:20260219T175928Z
UID:3172-1835350200-1835353800@totallivingcenter.org
SUMMARY:Weekly Hot Meal Program
DESCRIPTION:At Total Living Center\, we believe no one in our community should have to face hunger alone. Each week\, we provide warm\, nutritious meals in a safe and welcoming environment where individuals and families can gather around the table with dignity. Our Weekly Hot Meal Program is more than just food—it’s an opportunity for connection\, encouragement\, and support. Whether you’re in need of a meal or simply looking for community\, our doors are open. Join us every week as we serve with compassion and create a place where everyone is welcome.
URL:https://totallivingcenter.org/event/weekly-hot-meal-program/2028-02-28/
LOCATION:Total Living Center
END:VEVENT
BEGIN:VEVENT
DTSTART;TZID=UTC:20280229T113000
DTEND;TZID=UTC:20280229T123000
DTSTAMP:20260423T051017
CREATED:20260219T175928Z
LAST-MODIFIED:20260219T175928Z
UID:3173-1835436600-1835440200@totallivingcenter.org
SUMMARY:Weekly Hot Meal Program
DESCRIPTION:At Total Living Center\, we believe no one in our community should have to face hunger alone. Each week\, we provide warm\, nutritious meals in a safe and welcoming environment where individuals and families can gather around the table with dignity. Our Weekly Hot Meal Program is more than just food—it’s an opportunity for connection\, encouragement\, and support. Whether you’re in need of a meal or simply looking for community\, our doors are open. Join us every week as we serve with compassion and create a place where everyone is welcome.
URL:https://totallivingcenter.org/event/weekly-hot-meal-program/2028-02-29/
LOCATION:Total Living Center
END:VEVENT
BEGIN:VEVENT
DTSTART;TZID=UTC:20280301T113000
DTEND;TZID=UTC:20280301T123000
DTSTAMP:20260423T051017
CREATED:20260219T175928Z
LAST-MODIFIED:20260219T175928Z
UID:3174-1835523000-1835526600@totallivingcenter.org
SUMMARY:Weekly Hot Meal Program
DESCRIPTION:At Total Living Center\, we believe no one in our community should have to face hunger alone. Each week\, we provide warm\, nutritious meals in a safe and welcoming environment where individuals and families can gather around the table with dignity. Our Weekly Hot Meal Program is more than just food—it’s an opportunity for connection\, encouragement\, and support. Whether you’re in need of a meal or simply looking for community\, our doors are open. Join us every week as we serve with compassion and create a place where everyone is welcome.
URL:https://totallivingcenter.org/event/weekly-hot-meal-program/2028-03-01/
LOCATION:Total Living Center
END:VEVENT
BEGIN:VEVENT
DTSTART;TZID=UTC:20280302T113000
DTEND;TZID=UTC:20280302T123000
DTSTAMP:20260423T051017
CREATED:20260219T175928Z
LAST-MODIFIED:20260219T175928Z
UID:3176-1835609400-1835613000@totallivingcenter.org
SUMMARY:Weekly Hot Meal Program
DESCRIPTION:At Total Living Center\, we believe no one in our community should have to face hunger alone. Each week\, we provide warm\, nutritious meals in a safe and welcoming environment where individuals and families can gather around the table with dignity. Our Weekly Hot Meal Program is more than just food—it’s an opportunity for connection\, encouragement\, and support. Whether you’re in need of a meal or simply looking for community\, our doors are open. Join us every week as we serve with compassion and create a place where everyone is welcome.
URL:https://totallivingcenter.org/event/weekly-hot-meal-program/2028-03-02/
LOCATION:Total Living Center
END:VEVENT
BEGIN:VEVENT
DTSTART;TZID=UTC:20280306T113000
DTEND;TZID=UTC:20280306T123000
DTSTAMP:20260423T051017
CREATED:20260219T175928Z
LAST-MODIFIED:20260219T175928Z
UID:3208-1835955000-1835958600@totallivingcenter.org
SUMMARY:Weekly Hot Meal Program
DESCRIPTION:At Total Living Center\, we believe no one in our community should have to face hunger alone. Each week\, we provide warm\, nutritious meals in a safe and welcoming environment where individuals and families can gather around the table with dignity. Our Weekly Hot Meal Program is more than just food—it’s an opportunity for connection\, encouragement\, and support. Whether you’re in need of a meal or simply looking for community\, our doors are open. Join us every week as we serve with compassion and create a place where everyone is welcome.
URL:https://totallivingcenter.org/event/weekly-hot-meal-program/2028-03-06/
LOCATION:Total Living Center
END:VEVENT
BEGIN:VEVENT
DTSTART;TZID=UTC:20280307T113000
DTEND;TZID=UTC:20280307T123000
DTSTAMP:20260423T051017
CREATED:20260219T175928Z
LAST-MODIFIED:20260219T175928Z
UID:3209-1836041400-1836045000@totallivingcenter.org
SUMMARY:Weekly Hot Meal Program
DESCRIPTION:At Total Living Center\, we believe no one in our community should have to face hunger alone. Each week\, we provide warm\, nutritious meals in a safe and welcoming environment where individuals and families can gather around the table with dignity. Our Weekly Hot Meal Program is more than just food—it’s an opportunity for connection\, encouragement\, and support. Whether you’re in need of a meal or simply looking for community\, our doors are open. Join us every week as we serve with compassion and create a place where everyone is welcome.
URL:https://totallivingcenter.org/event/weekly-hot-meal-program/2028-03-07/
LOCATION:Total Living Center
END:VEVENT
BEGIN:VEVENT
DTSTART;TZID=UTC:20280308T113000
DTEND;TZID=UTC:20280308T123000
DTSTAMP:20260423T051017
CREATED:20260219T175928Z
LAST-MODIFIED:20260219T175928Z
UID:3212-1836127800-1836131400@totallivingcenter.org
SUMMARY:Weekly Hot Meal Program
DESCRIPTION:At Total Living Center\, we believe no one in our community should have to face hunger alone. Each week\, we provide warm\, nutritious meals in a safe and welcoming environment where individuals and families can gather around the table with dignity. Our Weekly Hot Meal Program is more than just food—it’s an opportunity for connection\, encouragement\, and support. Whether you’re in need of a meal or simply looking for community\, our doors are open. Join us every week as we serve with compassion and create a place where everyone is welcome.
URL:https://totallivingcenter.org/event/weekly-hot-meal-program/2028-03-08/
LOCATION:Total Living Center
END:VEVENT
BEGIN:VEVENT
DTSTART;TZID=UTC:20280309T113000
DTEND;TZID=UTC:20280309T123000
DTSTAMP:20260423T051017
CREATED:20260219T175928Z
LAST-MODIFIED:20260219T175928Z
UID:3216-1836214200-1836217800@totallivingcenter.org
SUMMARY:Weekly Hot Meal Program
DESCRIPTION:At Total Living Center\, we believe no one in our community should have to face hunger alone. Each week\, we provide warm\, nutritious meals in a safe and welcoming environment where individuals and families can gather around the table with dignity. Our Weekly Hot Meal Program is more than just food—it’s an opportunity for connection\, encouragement\, and support. Whether you’re in need of a meal or simply looking for community\, our doors are open. Join us every week as we serve with compassion and create a place where everyone is welcome.
URL:https://totallivingcenter.org/event/weekly-hot-meal-program/2028-03-09/
LOCATION:Total Living Center
END:VEVENT
BEGIN:VEVENT
DTSTART;TZID=UTC:20280313T113000
DTEND;TZID=UTC:20280313T123000
DTSTAMP:20260423T051017
CREATED:20260219T175928Z
LAST-MODIFIED:20260219T175928Z
UID:3220-1836559800-1836563400@totallivingcenter.org
SUMMARY:Weekly Hot Meal Program
DESCRIPTION:At Total Living Center\, we believe no one in our community should have to face hunger alone. Each week\, we provide warm\, nutritious meals in a safe and welcoming environment where individuals and families can gather around the table with dignity. Our Weekly Hot Meal Program is more than just food—it’s an opportunity for connection\, encouragement\, and support. Whether you’re in need of a meal or simply looking for community\, our doors are open. Join us every week as we serve with compassion and create a place where everyone is welcome.
URL:https://totallivingcenter.org/event/weekly-hot-meal-program/2028-03-13/
LOCATION:Total Living Center
END:VEVENT
BEGIN:VEVENT
DTSTART;TZID=UTC:20280314T113000
DTEND;TZID=UTC:20280314T123000
DTSTAMP:20260423T051017
CREATED:20260219T175928Z
LAST-MODIFIED:20260219T175928Z
UID:3221-1836646200-1836649800@totallivingcenter.org
SUMMARY:Weekly Hot Meal Program
DESCRIPTION:At Total Living Center\, we believe no one in our community should have to face hunger alone. Each week\, we provide warm\, nutritious meals in a safe and welcoming environment where individuals and families can gather around the table with dignity. Our Weekly Hot Meal Program is more than just food—it’s an opportunity for connection\, encouragement\, and support. Whether you’re in need of a meal or simply looking for community\, our doors are open. Join us every week as we serve with compassion and create a place where everyone is welcome.
URL:https://totallivingcenter.org/event/weekly-hot-meal-program/2028-03-14/
LOCATION:Total Living Center
END:VEVENT
BEGIN:VEVENT
DTSTART;TZID=UTC:20280315T113000
DTEND;TZID=UTC:20280315T123000
DTSTAMP:20260423T051017
CREATED:20260219T175928Z
LAST-MODIFIED:20260219T175928Z
UID:3222-1836732600-1836736200@totallivingcenter.org
SUMMARY:Weekly Hot Meal Program
DESCRIPTION:At Total Living Center\, we believe no one in our community should have to face hunger alone. Each week\, we provide warm\, nutritious meals in a safe and welcoming environment where individuals and families can gather around the table with dignity. Our Weekly Hot Meal Program is more than just food—it’s an opportunity for connection\, encouragement\, and support. Whether you’re in need of a meal or simply looking for community\, our doors are open. Join us every week as we serve with compassion and create a place where everyone is welcome.
URL:https://totallivingcenter.org/event/weekly-hot-meal-program/2028-03-15/
LOCATION:Total Living Center
END:VEVENT
BEGIN:VEVENT
DTSTART;TZID=UTC:20280316T113000
DTEND;TZID=UTC:20280316T123000
DTSTAMP:20260423T051017
CREATED:20260219T175928Z
LAST-MODIFIED:20260219T175928Z
UID:3223-1836819000-1836822600@totallivingcenter.org
SUMMARY:Weekly Hot Meal Program
DESCRIPTION:At Total Living Center\, we believe no one in our community should have to face hunger alone. Each week\, we provide warm\, nutritious meals in a safe and welcoming environment where individuals and families can gather around the table with dignity. Our Weekly Hot Meal Program is more than just food—it’s an opportunity for connection\, encouragement\, and support. Whether you’re in need of a meal or simply looking for community\, our doors are open. Join us every week as we serve with compassion and create a place where everyone is welcome.
URL:https://totallivingcenter.org/event/weekly-hot-meal-program/2028-03-16/
LOCATION:Total Living Center
END:VEVENT
BEGIN:VEVENT
DTSTART;TZID=UTC:20280320T113000
DTEND;TZID=UTC:20280320T123000
DTSTAMP:20260423T051017
CREATED:20260219T175928Z
LAST-MODIFIED:20260219T175928Z
UID:3975-1837164600-1837168200@totallivingcenter.org
SUMMARY:Weekly Hot Meal Program
DESCRIPTION:At Total Living Center\, we believe no one in our community should have to face hunger alone. Each week\, we provide warm\, nutritious meals in a safe and welcoming environment where individuals and families can gather around the table with dignity. Our Weekly Hot Meal Program is more than just food—it’s an opportunity for connection\, encouragement\, and support. Whether you’re in need of a meal or simply looking for community\, our doors are open. Join us every week as we serve with compassion and create a place where everyone is welcome.
URL:https://totallivingcenter.org/event/weekly-hot-meal-program/2028-03-20/
LOCATION:Total Living Center
END:VEVENT
BEGIN:VEVENT
DTSTART;TZID=UTC:20280321T113000
DTEND;TZID=UTC:20280321T123000
DTSTAMP:20260423T051017
CREATED:20260219T175928Z
LAST-MODIFIED:20260219T175928Z
UID:3977-1837251000-1837254600@totallivingcenter.org
SUMMARY:Weekly Hot Meal Program
DESCRIPTION:At Total Living Center\, we believe no one in our community should have to face hunger alone. Each week\, we provide warm\, nutritious meals in a safe and welcoming environment where individuals and families can gather around the table with dignity. Our Weekly Hot Meal Program is more than just food—it’s an opportunity for connection\, encouragement\, and support. Whether you’re in need of a meal or simply looking for community\, our doors are open. Join us every week as we serve with compassion and create a place where everyone is welcome.
URL:https://totallivingcenter.org/event/weekly-hot-meal-program/2028-03-21/
LOCATION:Total Living Center
END:VEVENT
BEGIN:VEVENT
DTSTART;TZID=UTC:20280322T113000
DTEND;TZID=UTC:20280322T123000
DTSTAMP:20260423T051017
CREATED:20260219T175928Z
LAST-MODIFIED:20260219T175928Z
UID:3979-1837337400-1837341000@totallivingcenter.org
SUMMARY:Weekly Hot Meal Program
DESCRIPTION:At Total Living Center\, we believe no one in our community should have to face hunger alone. Each week\, we provide warm\, nutritious meals in a safe and welcoming environment where individuals and families can gather around the table with dignity. Our Weekly Hot Meal Program is more than just food—it’s an opportunity for connection\, encouragement\, and support. Whether you’re in need of a meal or simply looking for community\, our doors are open. Join us every week as we serve with compassion and create a place where everyone is welcome.
URL:https://totallivingcenter.org/event/weekly-hot-meal-program/2028-03-22/
LOCATION:Total Living Center
END:VEVENT
BEGIN:VEVENT
DTSTART;TZID=UTC:20280323T113000
DTEND;TZID=UTC:20280323T123000
DTSTAMP:20260423T051017
CREATED:20260219T175928Z
LAST-MODIFIED:20260219T175928Z
UID:3982-1837423800-1837427400@totallivingcenter.org
SUMMARY:Weekly Hot Meal Program
DESCRIPTION:At Total Living Center\, we believe no one in our community should have to face hunger alone. Each week\, we provide warm\, nutritious meals in a safe and welcoming environment where individuals and families can gather around the table with dignity. Our Weekly Hot Meal Program is more than just food—it’s an opportunity for connection\, encouragement\, and support. Whether you’re in need of a meal or simply looking for community\, our doors are open. Join us every week as we serve with compassion and create a place where everyone is welcome.
URL:https://totallivingcenter.org/event/weekly-hot-meal-program/2028-03-23/
LOCATION:Total Living Center
END:VEVENT
BEGIN:VEVENT
DTSTART;TZID=UTC:20280327T113000
DTEND;TZID=UTC:20280327T123000
DTSTAMP:20260423T051017
CREATED:20260219T175928Z
LAST-MODIFIED:20260219T175928Z
UID:3986-1837769400-1837773000@totallivingcenter.org
SUMMARY:Weekly Hot Meal Program
DESCRIPTION:At Total Living Center\, we believe no one in our community should have to face hunger alone. Each week\, we provide warm\, nutritious meals in a safe and welcoming environment where individuals and families can gather around the table with dignity. Our Weekly Hot Meal Program is more than just food—it’s an opportunity for connection\, encouragement\, and support. Whether you’re in need of a meal or simply looking for community\, our doors are open. Join us every week as we serve with compassion and create a place where everyone is welcome.
URL:https://totallivingcenter.org/event/weekly-hot-meal-program/2028-03-27/
LOCATION:Total Living Center
END:VEVENT
BEGIN:VEVENT
DTSTART;TZID=UTC:20280328T113000
DTEND;TZID=UTC:20280328T123000
DTSTAMP:20260423T051017
CREATED:20260219T175928Z
LAST-MODIFIED:20260219T175928Z
UID:3989-1837855800-1837859400@totallivingcenter.org
SUMMARY:Weekly Hot Meal Program
DESCRIPTION:At Total Living Center\, we believe no one in our community should have to face hunger alone. Each week\, we provide warm\, nutritious meals in a safe and welcoming environment where individuals and families can gather around the table with dignity. Our Weekly Hot Meal Program is more than just food—it’s an opportunity for connection\, encouragement\, and support. Whether you’re in need of a meal or simply looking for community\, our doors are open. Join us every week as we serve with compassion and create a place where everyone is welcome.
URL:https://totallivingcenter.org/event/weekly-hot-meal-program/2028-03-28/
LOCATION:Total Living Center
END:VEVENT
BEGIN:VEVENT
DTSTART;TZID=UTC:20280329T113000
DTEND;TZID=UTC:20280329T123000
DTSTAMP:20260423T051017
CREATED:20260219T175928Z
LAST-MODIFIED:20260219T175928Z
UID:3991-1837942200-1837945800@totallivingcenter.org
SUMMARY:Weekly Hot Meal Program
DESCRIPTION:At Total Living Center\, we believe no one in our community should have to face hunger alone. Each week\, we provide warm\, nutritious meals in a safe and welcoming environment where individuals and families can gather around the table with dignity. Our Weekly Hot Meal Program is more than just food—it’s an opportunity for connection\, encouragement\, and support. Whether you’re in need of a meal or simply looking for community\, our doors are open. Join us every week as we serve with compassion and create a place where everyone is welcome.
URL:https://totallivingcenter.org/event/weekly-hot-meal-program/2028-03-29/
LOCATION:Total Living Center
END:VEVENT
BEGIN:VEVENT
DTSTART;TZID=UTC:20280330T113000
DTEND;TZID=UTC:20280330T123000
DTSTAMP:20260423T051017
CREATED:20260219T175928Z
LAST-MODIFIED:20260219T175928Z
UID:3994-1838028600-1838032200@totallivingcenter.org
SUMMARY:Weekly Hot Meal Program
DESCRIPTION:At Total Living Center\, we believe no one in our community should have to face hunger alone. Each week\, we provide warm\, nutritious meals in a safe and welcoming environment where individuals and families can gather around the table with dignity. Our Weekly Hot Meal Program is more than just food—it’s an opportunity for connection\, encouragement\, and support. Whether you’re in need of a meal or simply looking for community\, our doors are open. Join us every week as we serve with compassion and create a place where everyone is welcome.
URL:https://totallivingcenter.org/event/weekly-hot-meal-program/2028-03-30/
LOCATION:Total Living Center
END:VEVENT
BEGIN:VEVENT
DTSTART;TZID=UTC:20280403T113000
DTEND;TZID=UTC:20280403T123000
DTSTAMP:20260423T051017
CREATED:20260219T175928Z
LAST-MODIFIED:20260219T175928Z
UID:4001-1838374200-1838377800@totallivingcenter.org
SUMMARY:Weekly Hot Meal Program
DESCRIPTION:At Total Living Center\, we believe no one in our community should have to face hunger alone. Each week\, we provide warm\, nutritious meals in a safe and welcoming environment where individuals and families can gather around the table with dignity. Our Weekly Hot Meal Program is more than just food—it’s an opportunity for connection\, encouragement\, and support. Whether you’re in need of a meal or simply looking for community\, our doors are open. Join us every week as we serve with compassion and create a place where everyone is welcome.
URL:https://totallivingcenter.org/event/weekly-hot-meal-program/2028-04-03/
LOCATION:Total Living Center
END:VEVENT
BEGIN:VEVENT
DTSTART;TZID=UTC:20280404T113000
DTEND;TZID=UTC:20280404T123000
DTSTAMP:20260423T051017
CREATED:20260219T175928Z
LAST-MODIFIED:20260219T175928Z
UID:4003-1838460600-1838464200@totallivingcenter.org
SUMMARY:Weekly Hot Meal Program
DESCRIPTION:At Total Living Center\, we believe no one in our community should have to face hunger alone. Each week\, we provide warm\, nutritious meals in a safe and welcoming environment where individuals and families can gather around the table with dignity. Our Weekly Hot Meal Program is more than just food—it’s an opportunity for connection\, encouragement\, and support. Whether you’re in need of a meal or simply looking for community\, our doors are open. Join us every week as we serve with compassion and create a place where everyone is welcome.
URL:https://totallivingcenter.org/event/weekly-hot-meal-program/2028-04-04/
LOCATION:Total Living Center
END:VEVENT
BEGIN:VEVENT
DTSTART;TZID=UTC:20280405T113000
DTEND;TZID=UTC:20280405T123000
DTSTAMP:20260423T051017
CREATED:20260219T175928Z
LAST-MODIFIED:20260219T175928Z
UID:4005-1838547000-1838550600@totallivingcenter.org
SUMMARY:Weekly Hot Meal Program
DESCRIPTION:At Total Living Center\, we believe no one in our community should have to face hunger alone. Each week\, we provide warm\, nutritious meals in a safe and welcoming environment where individuals and families can gather around the table with dignity. Our Weekly Hot Meal Program is more than just food—it’s an opportunity for connection\, encouragement\, and support. Whether you’re in need of a meal or simply looking for community\, our doors are open. Join us every week as we serve with compassion and create a place where everyone is welcome.
URL:https://totallivingcenter.org/event/weekly-hot-meal-program/2028-04-05/
LOCATION:Total Living Center
END:VEVENT
BEGIN:VEVENT
DTSTART;TZID=UTC:20280406T113000
DTEND;TZID=UTC:20280406T123000
DTSTAMP:20260423T051017
CREATED:20260219T175928Z
LAST-MODIFIED:20260219T175928Z
UID:4009-1838633400-1838637000@totallivingcenter.org
SUMMARY:Weekly Hot Meal Program
DESCRIPTION:At Total Living Center\, we believe no one in our community should have to face hunger alone. Each week\, we provide warm\, nutritious meals in a safe and welcoming environment where individuals and families can gather around the table with dignity. Our Weekly Hot Meal Program is more than just food—it’s an opportunity for connection\, encouragement\, and support. Whether you’re in need of a meal or simply looking for community\, our doors are open. Join us every week as we serve with compassion and create a place where everyone is welcome.
URL:https://totallivingcenter.org/event/weekly-hot-meal-program/2028-04-06/
LOCATION:Total Living Center
END:VEVENT
BEGIN:VEVENT
DTSTART;TZID=UTC:20280410T113000
DTEND;TZID=UTC:20280410T123000
DTSTAMP:20260423T051017
CREATED:20260219T175928Z
LAST-MODIFIED:20260219T175928Z
UID:4039-1838979000-1838982600@totallivingcenter.org
SUMMARY:Weekly Hot Meal Program
DESCRIPTION:At Total Living Center\, we believe no one in our community should have to face hunger alone. Each week\, we provide warm\, nutritious meals in a safe and welcoming environment where individuals and families can gather around the table with dignity. Our Weekly Hot Meal Program is more than just food—it’s an opportunity for connection\, encouragement\, and support. Whether you’re in need of a meal or simply looking for community\, our doors are open. Join us every week as we serve with compassion and create a place where everyone is welcome.
URL:https://totallivingcenter.org/event/weekly-hot-meal-program/2028-04-10/
LOCATION:Total Living Center
END:VEVENT
BEGIN:VEVENT
DTSTART;TZID=UTC:20280411T113000
DTEND;TZID=UTC:20280411T123000
DTSTAMP:20260423T051017
CREATED:20260219T175928Z
LAST-MODIFIED:20260219T175928Z
UID:4041-1839065400-1839069000@totallivingcenter.org
SUMMARY:Weekly Hot Meal Program
DESCRIPTION:At Total Living Center\, we believe no one in our community should have to face hunger alone. Each week\, we provide warm\, nutritious meals in a safe and welcoming environment where individuals and families can gather around the table with dignity. Our Weekly Hot Meal Program is more than just food—it’s an opportunity for connection\, encouragement\, and support. Whether you’re in need of a meal or simply looking for community\, our doors are open. Join us every week as we serve with compassion and create a place where everyone is welcome.
URL:https://totallivingcenter.org/event/weekly-hot-meal-program/2028-04-11/
LOCATION:Total Living Center
END:VEVENT
END:VCALENDAR