BEGIN:VCALENDAR
VERSION:2.0
PRODID:-//Total Living Center - ECPv6.15.17.1//NONSGML v1.0//EN
CALSCALE:GREGORIAN
METHOD:PUBLISH
X-ORIGINAL-URL:https://totallivingcenter.org
X-WR-CALDESC:Events for Total Living Center
REFRESH-INTERVAL;VALUE=DURATION:PT1H
X-Robots-Tag:noindex
X-PUBLISHED-TTL:PT1H
BEGIN:VTIMEZONE
TZID:UTC
BEGIN:STANDARD
TZOFFSETFROM:+0000
TZOFFSETTO:+0000
TZNAME:UTC
DTSTART:20250101T000000
END:STANDARD
END:VTIMEZONE
BEGIN:VEVENT
DTSTART;TZID=UTC:20260501T050000
DTEND;TZID=UTC:20260501T070000
DTSTAMP:20260423T064042
CREATED:20260219T145354Z
LAST-MODIFIED:20260219T145354Z
UID:2760-1777611600-1777618800@totallivingcenter.org
SUMMARY:Sunrise Prayer
DESCRIPTION:Sunrise Prayer is a weekly time set aside to seek God together before the day begins. Join us on the 1st and 3rd Friday of the month from 5:00–7:00 AM as we gather in prayer for our families\, our community\, and the needs around us. This peaceful early morning time creates space to reflect\, be encouraged\, and align our hearts with God through Scripture and intercession. All are welcome to come and start their Friday in faith and unity.
URL:https://totallivingcenter.org/event/sunrise-prayer/2026-05-01/
LOCATION:Total Living Center
ORGANIZER;CN="Total Living Center":MAILTO:jackie@totallivingcenter.org
END:VEVENT
BEGIN:VEVENT
DTSTART;TZID=UTC:20260515T050000
DTEND;TZID=UTC:20260515T070000
DTSTAMP:20260423T064042
CREATED:20260219T145354Z
LAST-MODIFIED:20260219T145354Z
UID:2761-1778821200-1778828400@totallivingcenter.org
SUMMARY:Sunrise Prayer
DESCRIPTION:Sunrise Prayer is a weekly time set aside to seek God together before the day begins. Join us on the 1st and 3rd Friday of the month from 5:00–7:00 AM as we gather in prayer for our families\, our community\, and the needs around us. This peaceful early morning time creates space to reflect\, be encouraged\, and align our hearts with God through Scripture and intercession. All are welcome to come and start their Friday in faith and unity.
URL:https://totallivingcenter.org/event/sunrise-prayer/2026-05-15/
LOCATION:Total Living Center
ORGANIZER;CN="Total Living Center":MAILTO:jackie@totallivingcenter.org
END:VEVENT
BEGIN:VEVENT
DTSTART;TZID=UTC:20260605T050000
DTEND;TZID=UTC:20260605T070000
DTSTAMP:20260423T064042
CREATED:20260219T145354Z
LAST-MODIFIED:20260219T145354Z
UID:2762-1780635600-1780642800@totallivingcenter.org
SUMMARY:Sunrise Prayer
DESCRIPTION:Sunrise Prayer is a weekly time set aside to seek God together before the day begins. Join us on the 1st and 3rd Friday of the month from 5:00–7:00 AM as we gather in prayer for our families\, our community\, and the needs around us. This peaceful early morning time creates space to reflect\, be encouraged\, and align our hearts with God through Scripture and intercession. All are welcome to come and start their Friday in faith and unity.
URL:https://totallivingcenter.org/event/sunrise-prayer/2026-06-05/
LOCATION:Total Living Center
ORGANIZER;CN="Total Living Center":MAILTO:jackie@totallivingcenter.org
END:VEVENT
BEGIN:VEVENT
DTSTART;TZID=UTC:20260619T050000
DTEND;TZID=UTC:20260619T070000
DTSTAMP:20260423T064042
CREATED:20260219T145354Z
LAST-MODIFIED:20260219T145354Z
UID:2763-1781845200-1781852400@totallivingcenter.org
SUMMARY:Sunrise Prayer
DESCRIPTION:Sunrise Prayer is a weekly time set aside to seek God together before the day begins. Join us on the 1st and 3rd Friday of the month from 5:00–7:00 AM as we gather in prayer for our families\, our community\, and the needs around us. This peaceful early morning time creates space to reflect\, be encouraged\, and align our hearts with God through Scripture and intercession. All are welcome to come and start their Friday in faith and unity.
URL:https://totallivingcenter.org/event/sunrise-prayer/2026-06-19/
LOCATION:Total Living Center
ORGANIZER;CN="Total Living Center":MAILTO:jackie@totallivingcenter.org
END:VEVENT
BEGIN:VEVENT
DTSTART;TZID=UTC:20260703T050000
DTEND;TZID=UTC:20260703T070000
DTSTAMP:20260423T064042
CREATED:20260219T145354Z
LAST-MODIFIED:20260219T145354Z
UID:2764-1783054800-1783062000@totallivingcenter.org
SUMMARY:Sunrise Prayer
DESCRIPTION:Sunrise Prayer is a weekly time set aside to seek God together before the day begins. Join us on the 1st and 3rd Friday of the month from 5:00–7:00 AM as we gather in prayer for our families\, our community\, and the needs around us. This peaceful early morning time creates space to reflect\, be encouraged\, and align our hearts with God through Scripture and intercession. All are welcome to come and start their Friday in faith and unity.
URL:https://totallivingcenter.org/event/sunrise-prayer/2026-07-03/
LOCATION:Total Living Center
ORGANIZER;CN="Total Living Center":MAILTO:jackie@totallivingcenter.org
END:VEVENT
BEGIN:VEVENT
DTSTART;TZID=UTC:20260717T050000
DTEND;TZID=UTC:20260717T070000
DTSTAMP:20260423T064042
CREATED:20260219T145354Z
LAST-MODIFIED:20260219T145354Z
UID:2765-1784264400-1784271600@totallivingcenter.org
SUMMARY:Sunrise Prayer
DESCRIPTION:Sunrise Prayer is a weekly time set aside to seek God together before the day begins. Join us on the 1st and 3rd Friday of the month from 5:00–7:00 AM as we gather in prayer for our families\, our community\, and the needs around us. This peaceful early morning time creates space to reflect\, be encouraged\, and align our hearts with God through Scripture and intercession. All are welcome to come and start their Friday in faith and unity.
URL:https://totallivingcenter.org/event/sunrise-prayer/2026-07-17/
LOCATION:Total Living Center
ORGANIZER;CN="Total Living Center":MAILTO:jackie@totallivingcenter.org
END:VEVENT
BEGIN:VEVENT
DTSTART;TZID=UTC:20260807T050000
DTEND;TZID=UTC:20260807T070000
DTSTAMP:20260423T064042
CREATED:20260219T145354Z
LAST-MODIFIED:20260219T145354Z
UID:2767-1786078800-1786086000@totallivingcenter.org
SUMMARY:Sunrise Prayer
DESCRIPTION:Sunrise Prayer is a weekly time set aside to seek God together before the day begins. Join us on the 1st and 3rd Friday of the month from 5:00–7:00 AM as we gather in prayer for our families\, our community\, and the needs around us. This peaceful early morning time creates space to reflect\, be encouraged\, and align our hearts with God through Scripture and intercession. All are welcome to come and start their Friday in faith and unity.
URL:https://totallivingcenter.org/event/sunrise-prayer/2026-08-07/
LOCATION:Total Living Center
ORGANIZER;CN="Total Living Center":MAILTO:jackie@totallivingcenter.org
END:VEVENT
BEGIN:VEVENT
DTSTART;TZID=UTC:20260821T050000
DTEND;TZID=UTC:20260821T070000
DTSTAMP:20260423T064042
CREATED:20260219T145354Z
LAST-MODIFIED:20260219T145354Z
UID:2768-1787288400-1787295600@totallivingcenter.org
SUMMARY:Sunrise Prayer
DESCRIPTION:Sunrise Prayer is a weekly time set aside to seek God together before the day begins. Join us on the 1st and 3rd Friday of the month from 5:00–7:00 AM as we gather in prayer for our families\, our community\, and the needs around us. This peaceful early morning time creates space to reflect\, be encouraged\, and align our hearts with God through Scripture and intercession. All are welcome to come and start their Friday in faith and unity.
URL:https://totallivingcenter.org/event/sunrise-prayer/2026-08-21/
LOCATION:Total Living Center
ORGANIZER;CN="Total Living Center":MAILTO:jackie@totallivingcenter.org
END:VEVENT
BEGIN:VEVENT
DTSTART;TZID=UTC:20260904T050000
DTEND;TZID=UTC:20260904T070000
DTSTAMP:20260423T064042
CREATED:20260219T145354Z
LAST-MODIFIED:20260219T145354Z
UID:2769-1788498000-1788505200@totallivingcenter.org
SUMMARY:Sunrise Prayer
DESCRIPTION:Sunrise Prayer is a weekly time set aside to seek God together before the day begins. Join us on the 1st and 3rd Friday of the month from 5:00–7:00 AM as we gather in prayer for our families\, our community\, and the needs around us. This peaceful early morning time creates space to reflect\, be encouraged\, and align our hearts with God through Scripture and intercession. All are welcome to come and start their Friday in faith and unity.
URL:https://totallivingcenter.org/event/sunrise-prayer/2026-09-04/
LOCATION:Total Living Center
ORGANIZER;CN="Total Living Center":MAILTO:jackie@totallivingcenter.org
END:VEVENT
BEGIN:VEVENT
DTSTART;TZID=UTC:20260918T050000
DTEND;TZID=UTC:20260918T070000
DTSTAMP:20260423T064042
CREATED:20260219T145354Z
LAST-MODIFIED:20260219T145354Z
UID:2770-1789707600-1789714800@totallivingcenter.org
SUMMARY:Sunrise Prayer
DESCRIPTION:Sunrise Prayer is a weekly time set aside to seek God together before the day begins. Join us on the 1st and 3rd Friday of the month from 5:00–7:00 AM as we gather in prayer for our families\, our community\, and the needs around us. This peaceful early morning time creates space to reflect\, be encouraged\, and align our hearts with God through Scripture and intercession. All are welcome to come and start their Friday in faith and unity.
URL:https://totallivingcenter.org/event/sunrise-prayer/2026-09-18/
LOCATION:Total Living Center
ORGANIZER;CN="Total Living Center":MAILTO:jackie@totallivingcenter.org
END:VEVENT
BEGIN:VEVENT
DTSTART;TZID=UTC:20261002T050000
DTEND;TZID=UTC:20261002T070000
DTSTAMP:20260423T064042
CREATED:20260219T145354Z
LAST-MODIFIED:20260219T145354Z
UID:2771-1790917200-1790924400@totallivingcenter.org
SUMMARY:Sunrise Prayer
DESCRIPTION:Sunrise Prayer is a weekly time set aside to seek God together before the day begins. Join us on the 1st and 3rd Friday of the month from 5:00–7:00 AM as we gather in prayer for our families\, our community\, and the needs around us. This peaceful early morning time creates space to reflect\, be encouraged\, and align our hearts with God through Scripture and intercession. All are welcome to come and start their Friday in faith and unity.
URL:https://totallivingcenter.org/event/sunrise-prayer/2026-10-02/
LOCATION:Total Living Center
ORGANIZER;CN="Total Living Center":MAILTO:jackie@totallivingcenter.org
END:VEVENT
BEGIN:VEVENT
DTSTART;TZID=UTC:20261016T050000
DTEND;TZID=UTC:20261016T070000
DTSTAMP:20260423T064042
CREATED:20260219T145354Z
LAST-MODIFIED:20260219T145354Z
UID:2772-1792126800-1792134000@totallivingcenter.org
SUMMARY:Sunrise Prayer
DESCRIPTION:Sunrise Prayer is a weekly time set aside to seek God together before the day begins. Join us on the 1st and 3rd Friday of the month from 5:00–7:00 AM as we gather in prayer for our families\, our community\, and the needs around us. This peaceful early morning time creates space to reflect\, be encouraged\, and align our hearts with God through Scripture and intercession. All are welcome to come and start their Friday in faith and unity.
URL:https://totallivingcenter.org/event/sunrise-prayer/2026-10-16/
LOCATION:Total Living Center
ORGANIZER;CN="Total Living Center":MAILTO:jackie@totallivingcenter.org
END:VEVENT
BEGIN:VEVENT
DTSTART;TZID=UTC:20261106T050000
DTEND;TZID=UTC:20261106T070000
DTSTAMP:20260423T064042
CREATED:20260219T145354Z
LAST-MODIFIED:20260219T145354Z
UID:2773-1793941200-1793948400@totallivingcenter.org
SUMMARY:Sunrise Prayer
DESCRIPTION:Sunrise Prayer is a weekly time set aside to seek God together before the day begins. Join us on the 1st and 3rd Friday of the month from 5:00–7:00 AM as we gather in prayer for our families\, our community\, and the needs around us. This peaceful early morning time creates space to reflect\, be encouraged\, and align our hearts with God through Scripture and intercession. All are welcome to come and start their Friday in faith and unity.
URL:https://totallivingcenter.org/event/sunrise-prayer/2026-11-06/
LOCATION:Total Living Center
ORGANIZER;CN="Total Living Center":MAILTO:jackie@totallivingcenter.org
END:VEVENT
BEGIN:VEVENT
DTSTART;TZID=UTC:20261120T050000
DTEND;TZID=UTC:20261120T070000
DTSTAMP:20260423T064042
CREATED:20260219T145354Z
LAST-MODIFIED:20260219T145354Z
UID:2774-1795150800-1795158000@totallivingcenter.org
SUMMARY:Sunrise Prayer
DESCRIPTION:Sunrise Prayer is a weekly time set aside to seek God together before the day begins. Join us on the 1st and 3rd Friday of the month from 5:00–7:00 AM as we gather in prayer for our families\, our community\, and the needs around us. This peaceful early morning time creates space to reflect\, be encouraged\, and align our hearts with God through Scripture and intercession. All are welcome to come and start their Friday in faith and unity.
URL:https://totallivingcenter.org/event/sunrise-prayer/2026-11-20/
LOCATION:Total Living Center
ORGANIZER;CN="Total Living Center":MAILTO:jackie@totallivingcenter.org
END:VEVENT
BEGIN:VEVENT
DTSTART;TZID=UTC:20261204T050000
DTEND;TZID=UTC:20261204T070000
DTSTAMP:20260423T064042
CREATED:20260219T145354Z
LAST-MODIFIED:20260219T145354Z
UID:2775-1796360400-1796367600@totallivingcenter.org
SUMMARY:Sunrise Prayer
DESCRIPTION:Sunrise Prayer is a weekly time set aside to seek God together before the day begins. Join us on the 1st and 3rd Friday of the month from 5:00–7:00 AM as we gather in prayer for our families\, our community\, and the needs around us. This peaceful early morning time creates space to reflect\, be encouraged\, and align our hearts with God through Scripture and intercession. All are welcome to come and start their Friday in faith and unity.
URL:https://totallivingcenter.org/event/sunrise-prayer/2026-12-04/
LOCATION:Total Living Center
ORGANIZER;CN="Total Living Center":MAILTO:jackie@totallivingcenter.org
END:VEVENT
BEGIN:VEVENT
DTSTART;TZID=UTC:20261218T050000
DTEND;TZID=UTC:20261218T070000
DTSTAMP:20260423T064042
CREATED:20260219T145354Z
LAST-MODIFIED:20260219T145354Z
UID:2776-1797570000-1797577200@totallivingcenter.org
SUMMARY:Sunrise Prayer
DESCRIPTION:Sunrise Prayer is a weekly time set aside to seek God together before the day begins. Join us on the 1st and 3rd Friday of the month from 5:00–7:00 AM as we gather in prayer for our families\, our community\, and the needs around us. This peaceful early morning time creates space to reflect\, be encouraged\, and align our hearts with God through Scripture and intercession. All are welcome to come and start their Friday in faith and unity.
URL:https://totallivingcenter.org/event/sunrise-prayer/2026-12-18/
LOCATION:Total Living Center
ORGANIZER;CN="Total Living Center":MAILTO:jackie@totallivingcenter.org
END:VEVENT
BEGIN:VEVENT
DTSTART;TZID=UTC:20270101T050000
DTEND;TZID=UTC:20270101T070000
DTSTAMP:20260423T064042
CREATED:20260219T145354Z
LAST-MODIFIED:20260219T145354Z
UID:2777-1798779600-1798786800@totallivingcenter.org
SUMMARY:Sunrise Prayer
DESCRIPTION:Sunrise Prayer is a weekly time set aside to seek God together before the day begins. Join us on the 1st and 3rd Friday of the month from 5:00–7:00 AM as we gather in prayer for our families\, our community\, and the needs around us. This peaceful early morning time creates space to reflect\, be encouraged\, and align our hearts with God through Scripture and intercession. All are welcome to come and start their Friday in faith and unity.
URL:https://totallivingcenter.org/event/sunrise-prayer/2027-01-01/
LOCATION:Total Living Center
ORGANIZER;CN="Total Living Center":MAILTO:jackie@totallivingcenter.org
END:VEVENT
BEGIN:VEVENT
DTSTART;TZID=UTC:20270115T050000
DTEND;TZID=UTC:20270115T070000
DTSTAMP:20260423T064042
CREATED:20260219T145354Z
LAST-MODIFIED:20260219T145354Z
UID:2778-1799989200-1799996400@totallivingcenter.org
SUMMARY:Sunrise Prayer
DESCRIPTION:Sunrise Prayer is a weekly time set aside to seek God together before the day begins. Join us on the 1st and 3rd Friday of the month from 5:00–7:00 AM as we gather in prayer for our families\, our community\, and the needs around us. This peaceful early morning time creates space to reflect\, be encouraged\, and align our hearts with God through Scripture and intercession. All are welcome to come and start their Friday in faith and unity.
URL:https://totallivingcenter.org/event/sunrise-prayer/2027-01-15/
LOCATION:Total Living Center
ORGANIZER;CN="Total Living Center":MAILTO:jackie@totallivingcenter.org
END:VEVENT
BEGIN:VEVENT
DTSTART;TZID=UTC:20270205T050000
DTEND;TZID=UTC:20270205T070000
DTSTAMP:20260423T064042
CREATED:20260219T145354Z
LAST-MODIFIED:20260219T145354Z
UID:2779-1801803600-1801810800@totallivingcenter.org
SUMMARY:Sunrise Prayer
DESCRIPTION:Sunrise Prayer is a weekly time set aside to seek God together before the day begins. Join us on the 1st and 3rd Friday of the month from 5:00–7:00 AM as we gather in prayer for our families\, our community\, and the needs around us. This peaceful early morning time creates space to reflect\, be encouraged\, and align our hearts with God through Scripture and intercession. All are welcome to come and start their Friday in faith and unity.
URL:https://totallivingcenter.org/event/sunrise-prayer/2027-02-05/
LOCATION:Total Living Center
ORGANIZER;CN="Total Living Center":MAILTO:jackie@totallivingcenter.org
END:VEVENT
BEGIN:VEVENT
DTSTART;TZID=UTC:20270219T050000
DTEND;TZID=UTC:20270219T070000
DTSTAMP:20260423T064042
CREATED:20260219T145354Z
LAST-MODIFIED:20260219T145354Z
UID:2780-1803013200-1803020400@totallivingcenter.org
SUMMARY:Sunrise Prayer
DESCRIPTION:Sunrise Prayer is a weekly time set aside to seek God together before the day begins. Join us on the 1st and 3rd Friday of the month from 5:00–7:00 AM as we gather in prayer for our families\, our community\, and the needs around us. This peaceful early morning time creates space to reflect\, be encouraged\, and align our hearts with God through Scripture and intercession. All are welcome to come and start their Friday in faith and unity.
URL:https://totallivingcenter.org/event/sunrise-prayer/2027-02-19/
LOCATION:Total Living Center
ORGANIZER;CN="Total Living Center":MAILTO:jackie@totallivingcenter.org
END:VEVENT
BEGIN:VEVENT
DTSTART;TZID=UTC:20270305T050000
DTEND;TZID=UTC:20270305T070000
DTSTAMP:20260423T064042
CREATED:20260219T145354Z
LAST-MODIFIED:20260219T145354Z
UID:2781-1804222800-1804230000@totallivingcenter.org
SUMMARY:Sunrise Prayer
DESCRIPTION:Sunrise Prayer is a weekly time set aside to seek God together before the day begins. Join us on the 1st and 3rd Friday of the month from 5:00–7:00 AM as we gather in prayer for our families\, our community\, and the needs around us. This peaceful early morning time creates space to reflect\, be encouraged\, and align our hearts with God through Scripture and intercession. All are welcome to come and start their Friday in faith and unity.
URL:https://totallivingcenter.org/event/sunrise-prayer/2027-03-05/
LOCATION:Total Living Center
ORGANIZER;CN="Total Living Center":MAILTO:jackie@totallivingcenter.org
END:VEVENT
BEGIN:VEVENT
DTSTART;TZID=UTC:20270319T050000
DTEND;TZID=UTC:20270319T070000
DTSTAMP:20260423T064042
CREATED:20260219T145354Z
LAST-MODIFIED:20260219T145354Z
UID:2782-1805432400-1805439600@totallivingcenter.org
SUMMARY:Sunrise Prayer
DESCRIPTION:Sunrise Prayer is a weekly time set aside to seek God together before the day begins. Join us on the 1st and 3rd Friday of the month from 5:00–7:00 AM as we gather in prayer for our families\, our community\, and the needs around us. This peaceful early morning time creates space to reflect\, be encouraged\, and align our hearts with God through Scripture and intercession. All are welcome to come and start their Friday in faith and unity.
URL:https://totallivingcenter.org/event/sunrise-prayer/2027-03-19/
LOCATION:Total Living Center
ORGANIZER;CN="Total Living Center":MAILTO:jackie@totallivingcenter.org
END:VEVENT
BEGIN:VEVENT
DTSTART;TZID=UTC:20270402T050000
DTEND;TZID=UTC:20270402T070000
DTSTAMP:20260423T064042
CREATED:20260219T145354Z
LAST-MODIFIED:20260219T145354Z
UID:2783-1806642000-1806649200@totallivingcenter.org
SUMMARY:Sunrise Prayer
DESCRIPTION:Sunrise Prayer is a weekly time set aside to seek God together before the day begins. Join us on the 1st and 3rd Friday of the month from 5:00–7:00 AM as we gather in prayer for our families\, our community\, and the needs around us. This peaceful early morning time creates space to reflect\, be encouraged\, and align our hearts with God through Scripture and intercession. All are welcome to come and start their Friday in faith and unity.
URL:https://totallivingcenter.org/event/sunrise-prayer/2027-04-02/
LOCATION:Total Living Center
ORGANIZER;CN="Total Living Center":MAILTO:jackie@totallivingcenter.org
END:VEVENT
BEGIN:VEVENT
DTSTART;TZID=UTC:20270416T050000
DTEND;TZID=UTC:20270416T070000
DTSTAMP:20260423T064042
CREATED:20260219T145354Z
LAST-MODIFIED:20260219T145354Z
UID:2784-1807851600-1807858800@totallivingcenter.org
SUMMARY:Sunrise Prayer
DESCRIPTION:Sunrise Prayer is a weekly time set aside to seek God together before the day begins. Join us on the 1st and 3rd Friday of the month from 5:00–7:00 AM as we gather in prayer for our families\, our community\, and the needs around us. This peaceful early morning time creates space to reflect\, be encouraged\, and align our hearts with God through Scripture and intercession. All are welcome to come and start their Friday in faith and unity.
URL:https://totallivingcenter.org/event/sunrise-prayer/2027-04-16/
LOCATION:Total Living Center
ORGANIZER;CN="Total Living Center":MAILTO:jackie@totallivingcenter.org
END:VEVENT
BEGIN:VEVENT
DTSTART;TZID=UTC:20270507T050000
DTEND;TZID=UTC:20270507T070000
DTSTAMP:20260423T064042
CREATED:20260219T145354Z
LAST-MODIFIED:20260219T145354Z
UID:2785-1809666000-1809673200@totallivingcenter.org
SUMMARY:Sunrise Prayer
DESCRIPTION:Sunrise Prayer is a weekly time set aside to seek God together before the day begins. Join us on the 1st and 3rd Friday of the month from 5:00–7:00 AM as we gather in prayer for our families\, our community\, and the needs around us. This peaceful early morning time creates space to reflect\, be encouraged\, and align our hearts with God through Scripture and intercession. All are welcome to come and start their Friday in faith and unity.
URL:https://totallivingcenter.org/event/sunrise-prayer/2027-05-07/
LOCATION:Total Living Center
ORGANIZER;CN="Total Living Center":MAILTO:jackie@totallivingcenter.org
END:VEVENT
BEGIN:VEVENT
DTSTART;TZID=UTC:20270521T050000
DTEND;TZID=UTC:20270521T070000
DTSTAMP:20260423T064042
CREATED:20260219T145354Z
LAST-MODIFIED:20260219T145354Z
UID:2786-1810875600-1810882800@totallivingcenter.org
SUMMARY:Sunrise Prayer
DESCRIPTION:Sunrise Prayer is a weekly time set aside to seek God together before the day begins. Join us on the 1st and 3rd Friday of the month from 5:00–7:00 AM as we gather in prayer for our families\, our community\, and the needs around us. This peaceful early morning time creates space to reflect\, be encouraged\, and align our hearts with God through Scripture and intercession. All are welcome to come and start their Friday in faith and unity.
URL:https://totallivingcenter.org/event/sunrise-prayer/2027-05-21/
LOCATION:Total Living Center
ORGANIZER;CN="Total Living Center":MAILTO:jackie@totallivingcenter.org
END:VEVENT
BEGIN:VEVENT
DTSTART;TZID=UTC:20270604T050000
DTEND;TZID=UTC:20270604T070000
DTSTAMP:20260423T064042
CREATED:20260219T145354Z
LAST-MODIFIED:20260219T145354Z
UID:2787-1812085200-1812092400@totallivingcenter.org
SUMMARY:Sunrise Prayer
DESCRIPTION:Sunrise Prayer is a weekly time set aside to seek God together before the day begins. Join us on the 1st and 3rd Friday of the month from 5:00–7:00 AM as we gather in prayer for our families\, our community\, and the needs around us. This peaceful early morning time creates space to reflect\, be encouraged\, and align our hearts with God through Scripture and intercession. All are welcome to come and start their Friday in faith and unity.
URL:https://totallivingcenter.org/event/sunrise-prayer/2027-06-04/
LOCATION:Total Living Center
ORGANIZER;CN="Total Living Center":MAILTO:jackie@totallivingcenter.org
END:VEVENT
BEGIN:VEVENT
DTSTART;TZID=UTC:20270618T050000
DTEND;TZID=UTC:20270618T070000
DTSTAMP:20260423T064042
CREATED:20260219T145354Z
LAST-MODIFIED:20260219T145354Z
UID:2788-1813294800-1813302000@totallivingcenter.org
SUMMARY:Sunrise Prayer
DESCRIPTION:Sunrise Prayer is a weekly time set aside to seek God together before the day begins. Join us on the 1st and 3rd Friday of the month from 5:00–7:00 AM as we gather in prayer for our families\, our community\, and the needs around us. This peaceful early morning time creates space to reflect\, be encouraged\, and align our hearts with God through Scripture and intercession. All are welcome to come and start their Friday in faith and unity.
URL:https://totallivingcenter.org/event/sunrise-prayer/2027-06-18/
LOCATION:Total Living Center
ORGANIZER;CN="Total Living Center":MAILTO:jackie@totallivingcenter.org
END:VEVENT
BEGIN:VEVENT
DTSTART;TZID=UTC:20270702T050000
DTEND;TZID=UTC:20270702T070000
DTSTAMP:20260423T064042
CREATED:20260219T145354Z
LAST-MODIFIED:20260219T145354Z
UID:2789-1814504400-1814511600@totallivingcenter.org
SUMMARY:Sunrise Prayer
DESCRIPTION:Sunrise Prayer is a weekly time set aside to seek God together before the day begins. Join us on the 1st and 3rd Friday of the month from 5:00–7:00 AM as we gather in prayer for our families\, our community\, and the needs around us. This peaceful early morning time creates space to reflect\, be encouraged\, and align our hearts with God through Scripture and intercession. All are welcome to come and start their Friday in faith and unity.
URL:https://totallivingcenter.org/event/sunrise-prayer/2027-07-02/
LOCATION:Total Living Center
ORGANIZER;CN="Total Living Center":MAILTO:jackie@totallivingcenter.org
END:VEVENT
BEGIN:VEVENT
DTSTART;TZID=UTC:20270716T050000
DTEND;TZID=UTC:20270716T070000
DTSTAMP:20260423T064042
CREATED:20260219T145354Z
LAST-MODIFIED:20260219T145354Z
UID:2790-1815714000-1815721200@totallivingcenter.org
SUMMARY:Sunrise Prayer
DESCRIPTION:Sunrise Prayer is a weekly time set aside to seek God together before the day begins. Join us on the 1st and 3rd Friday of the month from 5:00–7:00 AM as we gather in prayer for our families\, our community\, and the needs around us. This peaceful early morning time creates space to reflect\, be encouraged\, and align our hearts with God through Scripture and intercession. All are welcome to come and start their Friday in faith and unity.
URL:https://totallivingcenter.org/event/sunrise-prayer/2027-07-16/
LOCATION:Total Living Center
ORGANIZER;CN="Total Living Center":MAILTO:jackie@totallivingcenter.org
END:VEVENT
END:VCALENDAR