BEGIN:VCALENDAR
VERSION:2.0
PRODID:-//Total Living Center - ECPv6.15.17.1//NONSGML v1.0//EN
CALSCALE:GREGORIAN
METHOD:PUBLISH
X-WR-CALNAME:Total Living Center
X-ORIGINAL-URL:https://totallivingcenter.org
X-WR-CALDESC:Events for Total Living Center
REFRESH-INTERVAL;VALUE=DURATION:PT1H
X-Robots-Tag:noindex
X-PUBLISHED-TTL:PT1H
BEGIN:VTIMEZONE
TZID:UTC
BEGIN:STANDARD
TZOFFSETFROM:+0000
TZOFFSETTO:+0000
TZNAME:UTC
DTSTART:20250101T000000
END:STANDARD
END:VTIMEZONE
BEGIN:VEVENT
DTSTART;TZID=UTC:20260422T110000
DTEND;TZID=UTC:20260422T130000
DTSTAMP:20260423T065827
CREATED:20260218T233333Z
LAST-MODIFIED:20260218T234812Z
UID:2565-1776855600-1776862800@totallivingcenter.org
SUMMARY:Grocery Distribution
DESCRIPTION:Grocery Distribution\nTotal Living Center’s Grocery Distribution program exists to support individuals and families facing food insecurity by providing consistent access to nutritious groceries in a welcoming\, dignity-centered environment. Through this program\, community members receive essential food items that help stretch household budgets and ensure that no one has to choose between basic needs. \nOur distribution is more than just a handout—it’s an opportunity to build relationships\, offer encouragement\, and connect individuals to additional support services available at TLC. Whether someone is navigating a temporary hardship or working toward long-term stability\, our goal is to meet immediate needs while walking alongside them on their journey toward wholeness. \nGroceries are distributed on a regular basis to help supplement meals and bring practical relief to those we serve throughout the Canton community. A photo ID is required to receive groceries.
URL:https://totallivingcenter.org/event/grocery-distribution/2026-04-22/
LOCATION:Total Living Center
ORGANIZER;CN="Total Living Center":MAILTO:jackie@totallivingcenter.org
END:VEVENT
BEGIN:VEVENT
DTSTART;TZID=UTC:20260408T110000
DTEND;TZID=UTC:20260408T130000
DTSTAMP:20260423T065827
CREATED:20260218T233333Z
LAST-MODIFIED:20260218T234812Z
UID:2564-1775646000-1775653200@totallivingcenter.org
SUMMARY:Grocery Distribution
DESCRIPTION:Grocery Distribution\nTotal Living Center’s Grocery Distribution program exists to support individuals and families facing food insecurity by providing consistent access to nutritious groceries in a welcoming\, dignity-centered environment. Through this program\, community members receive essential food items that help stretch household budgets and ensure that no one has to choose between basic needs. \nOur distribution is more than just a handout—it’s an opportunity to build relationships\, offer encouragement\, and connect individuals to additional support services available at TLC. Whether someone is navigating a temporary hardship or working toward long-term stability\, our goal is to meet immediate needs while walking alongside them on their journey toward wholeness. \nGroceries are distributed on a regular basis to help supplement meals and bring practical relief to those we serve throughout the Canton community. A photo ID is required to receive groceries.
URL:https://totallivingcenter.org/event/grocery-distribution/2026-04-08/
LOCATION:Total Living Center
ORGANIZER;CN="Total Living Center":MAILTO:jackie@totallivingcenter.org
END:VEVENT
BEGIN:VEVENT
DTSTART;TZID=UTC:20260325T110000
DTEND;TZID=UTC:20260325T130000
DTSTAMP:20260423T065827
CREATED:20260218T233333Z
LAST-MODIFIED:20260218T234812Z
UID:2563-1774436400-1774443600@totallivingcenter.org
SUMMARY:Grocery Distribution
DESCRIPTION:Grocery Distribution\nTotal Living Center’s Grocery Distribution program exists to support individuals and families facing food insecurity by providing consistent access to nutritious groceries in a welcoming\, dignity-centered environment. Through this program\, community members receive essential food items that help stretch household budgets and ensure that no one has to choose between basic needs. \nOur distribution is more than just a handout—it’s an opportunity to build relationships\, offer encouragement\, and connect individuals to additional support services available at TLC. Whether someone is navigating a temporary hardship or working toward long-term stability\, our goal is to meet immediate needs while walking alongside them on their journey toward wholeness. \nGroceries are distributed on a regular basis to help supplement meals and bring practical relief to those we serve throughout the Canton community. A photo ID is required to receive groceries.
URL:https://totallivingcenter.org/event/grocery-distribution/2026-03-25/
LOCATION:Total Living Center
ORGANIZER;CN="Total Living Center":MAILTO:jackie@totallivingcenter.org
END:VEVENT
BEGIN:VEVENT
DTSTART;TZID=UTC:20260311T110000
DTEND;TZID=UTC:20260311T130000
DTSTAMP:20260423T065827
CREATED:20260218T233333Z
LAST-MODIFIED:20260218T234812Z
UID:2562-1773226800-1773234000@totallivingcenter.org
SUMMARY:Grocery Distribution
DESCRIPTION:Grocery Distribution\nTotal Living Center’s Grocery Distribution program exists to support individuals and families facing food insecurity by providing consistent access to nutritious groceries in a welcoming\, dignity-centered environment. Through this program\, community members receive essential food items that help stretch household budgets and ensure that no one has to choose between basic needs. \nOur distribution is more than just a handout—it’s an opportunity to build relationships\, offer encouragement\, and connect individuals to additional support services available at TLC. Whether someone is navigating a temporary hardship or working toward long-term stability\, our goal is to meet immediate needs while walking alongside them on their journey toward wholeness. \nGroceries are distributed on a regular basis to help supplement meals and bring practical relief to those we serve throughout the Canton community. A photo ID is required to receive groceries.
URL:https://totallivingcenter.org/event/grocery-distribution/2026-03-11/
LOCATION:Total Living Center
ORGANIZER;CN="Total Living Center":MAILTO:jackie@totallivingcenter.org
END:VEVENT
BEGIN:VEVENT
DTSTART;TZID=UTC:20260225T110000
DTEND;TZID=UTC:20260225T130000
DTSTAMP:20260423T065827
CREATED:20260218T233333Z
LAST-MODIFIED:20260218T234811Z
UID:2559-1772017200-1772024400@totallivingcenter.org
SUMMARY:Grocery Distribution
DESCRIPTION:Grocery Distribution\nTotal Living Center’s Grocery Distribution program exists to support individuals and families facing food insecurity by providing consistent access to nutritious groceries in a welcoming\, dignity-centered environment. Through this program\, community members receive essential food items that help stretch household budgets and ensure that no one has to choose between basic needs. \nOur distribution is more than just a handout—it’s an opportunity to build relationships\, offer encouragement\, and connect individuals to additional support services available at TLC. Whether someone is navigating a temporary hardship or working toward long-term stability\, our goal is to meet immediate needs while walking alongside them on their journey toward wholeness. \nGroceries are distributed on a regular basis to help supplement meals and bring practical relief to those we serve throughout the Canton community. A photo ID is required to receive groceries.
URL:https://totallivingcenter.org/event/grocery-distribution/2026-02-25/
LOCATION:Total Living Center
ORGANIZER;CN="Total Living Center":MAILTO:jackie@totallivingcenter.org
END:VEVENT
END:VCALENDAR