BEGIN:VCALENDAR
VERSION:2.0
PRODID:-//Total Living Center - ECPv6.15.17.1//NONSGML v1.0//EN
CALSCALE:GREGORIAN
METHOD:PUBLISH
X-ORIGINAL-URL:https://totallivingcenter.org
X-WR-CALDESC:Events for Total Living Center
REFRESH-INTERVAL;VALUE=DURATION:PT1H
X-Robots-Tag:noindex
X-PUBLISHED-TTL:PT1H
BEGIN:VTIMEZONE
TZID:UTC
BEGIN:STANDARD
TZOFFSETFROM:+0000
TZOFFSETTO:+0000
TZNAME:UTC
DTSTART:20250101T000000
END:STANDARD
END:VTIMEZONE
BEGIN:VEVENT
DTSTART;TZID=UTC:20260416T180000
DTEND;TZID=UTC:20260416T193000
DTSTAMP:20260423T110219
CREATED:20260219T150024Z
LAST-MODIFIED:20260220T183657Z
UID:2806-1776362400-1776367800@totallivingcenter.org
SUMMARY:Celebrate Recovery
DESCRIPTION:Celebrate Recovery is a safe and supportive place for individuals seeking freedom from hurts\, habits\, and hang-ups of any kind. Through faith-based teaching\, honest conversation\, and community support\, participants are encouraged to find healing\, hope\, and lasting transformation in Christ. Whether you’re walking through recovery\, grief\, anxiety\, addiction\, or life’s challenges\, you are welcome here—just as you are. Celebrate Recovery is part of our Cell Groups at Total Living Center. In addition childcare is provided while you attend this program. Join us as we pursue wholeness together in a confidential and caring environment.
URL:https://totallivingcenter.org/event/celebrate-recovery/2026-04-16/
LOCATION:Total Living Center
END:VEVENT
BEGIN:VEVENT
DTSTART;TZID=UTC:20260402T180000
DTEND;TZID=UTC:20260402T193000
DTSTAMP:20260423T110219
CREATED:20260219T150024Z
LAST-MODIFIED:20260220T183656Z
UID:2804-1775152800-1775158200@totallivingcenter.org
SUMMARY:Celebrate Recovery
DESCRIPTION:Celebrate Recovery is a safe and supportive place for individuals seeking freedom from hurts\, habits\, and hang-ups of any kind. Through faith-based teaching\, honest conversation\, and community support\, participants are encouraged to find healing\, hope\, and lasting transformation in Christ. Whether you’re walking through recovery\, grief\, anxiety\, addiction\, or life’s challenges\, you are welcome here—just as you are. Celebrate Recovery is part of our Cell Groups at Total Living Center. In addition childcare is provided while you attend this program. Join us as we pursue wholeness together in a confidential and caring environment.
URL:https://totallivingcenter.org/event/celebrate-recovery/2026-04-02/
LOCATION:Total Living Center
END:VEVENT
BEGIN:VEVENT
DTSTART;TZID=UTC:20260326T180000
DTEND;TZID=UTC:20260326T193000
DTSTAMP:20260423T110219
CREATED:20260219T150024Z
LAST-MODIFIED:20260220T183656Z
UID:2803-1774548000-1774553400@totallivingcenter.org
SUMMARY:Celebrate Recovery
DESCRIPTION:Celebrate Recovery is a safe and supportive place for individuals seeking freedom from hurts\, habits\, and hang-ups of any kind. Through faith-based teaching\, honest conversation\, and community support\, participants are encouraged to find healing\, hope\, and lasting transformation in Christ. Whether you’re walking through recovery\, grief\, anxiety\, addiction\, or life’s challenges\, you are welcome here—just as you are. Celebrate Recovery is part of our Cell Groups at Total Living Center. In addition childcare is provided while you attend this program. Join us as we pursue wholeness together in a confidential and caring environment.
URL:https://totallivingcenter.org/event/celebrate-recovery/2026-03-26/
LOCATION:Total Living Center
END:VEVENT
BEGIN:VEVENT
DTSTART;TZID=UTC:20260319T180000
DTEND;TZID=UTC:20260319T193000
DTSTAMP:20260423T110219
CREATED:20260219T150024Z
LAST-MODIFIED:20260220T183656Z
UID:2802-1773943200-1773948600@totallivingcenter.org
SUMMARY:Celebrate Recovery
DESCRIPTION:Celebrate Recovery is a safe and supportive place for individuals seeking freedom from hurts\, habits\, and hang-ups of any kind. Through faith-based teaching\, honest conversation\, and community support\, participants are encouraged to find healing\, hope\, and lasting transformation in Christ. Whether you’re walking through recovery\, grief\, anxiety\, addiction\, or life’s challenges\, you are welcome here—just as you are. Celebrate Recovery is part of our Cell Groups at Total Living Center. In addition childcare is provided while you attend this program. Join us as we pursue wholeness together in a confidential and caring environment.
URL:https://totallivingcenter.org/event/celebrate-recovery/2026-03-19/
LOCATION:Total Living Center
END:VEVENT
BEGIN:VEVENT
DTSTART;TZID=UTC:20260305T180000
DTEND;TZID=UTC:20260305T193000
DTSTAMP:20260423T110219
CREATED:20260219T150024Z
LAST-MODIFIED:20260220T183655Z
UID:2800-1772733600-1772739000@totallivingcenter.org
SUMMARY:Celebrate Recovery
DESCRIPTION:Celebrate Recovery is a safe and supportive place for individuals seeking freedom from hurts\, habits\, and hang-ups of any kind. Through faith-based teaching\, honest conversation\, and community support\, participants are encouraged to find healing\, hope\, and lasting transformation in Christ. Whether you’re walking through recovery\, grief\, anxiety\, addiction\, or life’s challenges\, you are welcome here—just as you are. Celebrate Recovery is part of our Cell Groups at Total Living Center. In addition childcare is provided while you attend this program. Join us as we pursue wholeness together in a confidential and caring environment.
URL:https://totallivingcenter.org/event/celebrate-recovery/2026-03-05/
LOCATION:Total Living Center
END:VEVENT
BEGIN:VEVENT
DTSTART;TZID=UTC:20260226T180000
DTEND;TZID=UTC:20260226T193000
DTSTAMP:20260423T110219
CREATED:20260219T150024Z
LAST-MODIFIED:20260220T183655Z
UID:2799-1772128800-1772134200@totallivingcenter.org
SUMMARY:Celebrate Recovery
DESCRIPTION:Celebrate Recovery is a safe and supportive place for individuals seeking freedom from hurts\, habits\, and hang-ups of any kind. Through faith-based teaching\, honest conversation\, and community support\, participants are encouraged to find healing\, hope\, and lasting transformation in Christ. Whether you’re walking through recovery\, grief\, anxiety\, addiction\, or life’s challenges\, you are welcome here—just as you are. Celebrate Recovery is part of our Cell Groups at Total Living Center. In addition childcare is provided while you attend this program. Join us as we pursue wholeness together in a confidential and caring environment.
URL:https://totallivingcenter.org/event/celebrate-recovery/2026-02-26/
LOCATION:Total Living Center
END:VEVENT
BEGIN:VEVENT
DTSTART;TZID=UTC:20260219T180000
DTEND;TZID=UTC:20260219T193000
DTSTAMP:20260423T110219
CREATED:20260219T150024Z
LAST-MODIFIED:20260220T183622Z
UID:2797-1771524000-1771529400@totallivingcenter.org
SUMMARY:Celebrate Recovery
DESCRIPTION:Celebrate Recovery is a safe and supportive place for individuals seeking freedom from hurts\, habits\, and hang-ups of any kind. Through faith-based teaching\, honest conversation\, and community support\, participants are encouraged to find healing\, hope\, and lasting transformation in Christ. Whether you’re walking through recovery\, grief\, anxiety\, addiction\, or life’s challenges\, you are welcome here—just as you are. Celebrate Recovery is part of our Cell Groups at Total Living Center. In addition childcare is provided while you attend this program. Join us as we pursue wholeness together in a confidential and caring environment.
URL:https://totallivingcenter.org/event/celebrate-recovery/2026-02-19/
LOCATION:Total Living Center
END:VEVENT
END:VCALENDAR